BEGIN:VCALENDAR
VERSION:2.0
PRODID:-//Kicks the Art Place | Art Classes, Repurposed Furniture, Gifts and More | Crosslake Minnesota - ECPv6.15.18//NONSGML v1.0//EN
CALSCALE:GREGORIAN
METHOD:PUBLISH
X-ORIGINAL-URL:https://kickscrosslake.com
X-WR-CALDESC:Events for Kicks the Art Place | Art Classes, Repurposed Furniture, Gifts and More | Crosslake Minnesota
REFRESH-INTERVAL;VALUE=DURATION:PT1H
X-Robots-Tag:noindex
X-PUBLISHED-TTL:PT1H
BEGIN:VTIMEZONE
TZID:America/Chicago
BEGIN:DAYLIGHT
TZOFFSETFROM:-0600
TZOFFSETTO:-0500
TZNAME:CDT
DTSTART:20250309T080000
END:DAYLIGHT
BEGIN:STANDARD
TZOFFSETFROM:-0500
TZOFFSETTO:-0600
TZNAME:CST
DTSTART:20251102T070000
END:STANDARD
BEGIN:DAYLIGHT
TZOFFSETFROM:-0600
TZOFFSETTO:-0500
TZNAME:CDT
DTSTART:20260308T080000
END:DAYLIGHT
BEGIN:STANDARD
TZOFFSETFROM:-0500
TZOFFSETTO:-0600
TZNAME:CST
DTSTART:20261101T070000
END:STANDARD
BEGIN:DAYLIGHT
TZOFFSETFROM:-0600
TZOFFSETTO:-0500
TZNAME:CDT
DTSTART:20270314T080000
END:DAYLIGHT
BEGIN:STANDARD
TZOFFSETFROM:-0500
TZOFFSETTO:-0600
TZNAME:CST
DTSTART:20271107T070000
END:STANDARD
END:VTIMEZONE
BEGIN:VEVENT
DTSTART;TZID=America/Chicago:20260502T010000
DTEND;TZID=America/Chicago:20260502T163000
DTSTAMP:20260422T111832
CREATED:20260323T144818Z
LAST-MODIFIED:20260420T171710Z
UID:2266-1777683600-1777739400@kickscrosslake.com
SUMMARY:Transform Your Stencils: Bluebirds
DESCRIPTION:Transform a simple stencil into a work of art!  Many people know how to use multiple colors and gradations in a stencil\, but you can take it a step further and use it as a painting guide. Sara will show how the design of stencils\, with their positive and negative spaces\, provide the information needed to “fill in the blanks.” With our adorable blue bird stencil on a wooden heart\, and “crust medium” by Paint Couture\, Sara will show you how to make your one of a kind wall art with a raised\, textured finish. You will be able to work at your own level\, creating the look you want.  These wooden hearts have two sides\, one smooth and one with “planks’. We have chosen the smooth side for this project\, and will be offering a class to paint the other side in the near future. So watch website and social media!   Space is limited to only EIGHT\, so don’t wait to sign up! Ages 16+ please for this workshop. \n$65 \nProject description:  We will first paint the wooden heart in acrylic paint\, either like the sample or your own version. Sara will demonstrate the various techniques and crust medium by Paint Couture\, followed by a step by step process as a class. Additional hanging hardware can be added to the top with rope or ribbon for hanging. \nTicket Policy: \n*No refunds \n*Sign up in advance! Ticket sales close at 8PM the night before. Last minute inquiries\, call to check on availability. \n*Class minimum: 4 \n*In the event of not reaching the minimum\, class is subject to cancellation. \n*Cancellations by us will result in a credit towards a future class or a refund.
URL:https://kickscrosslake.com/event/transform-your-stencils-bluebirds/
LOCATION:Kicks the Art Place\, 36066 County Road 66\, Crosslake\, MN\, 56442\, United States
CATEGORIES:Adult Workshop
ATTACH;FMTTYPE=image/jpeg:https://kickscrosslake.com/wp-content/uploads/bluebird-stencil1.jpeg
END:VEVENT
BEGIN:VEVENT
DTSTART;TZID=America/Chicago:20260515T180000
DTEND;TZID=America/Chicago:20260515T203000
DTSTAMP:20260422T111832
CREATED:20260420T161735Z
LAST-MODIFIED:20260420T163550Z
UID:2298-1778868000-1778877000@kickscrosslake.com
SUMMARY:Tulips in the Rain
DESCRIPTION:This is a variation of our former “Spring Tulips.” In this version\, sunny orange tulips brighten a rainy day.  This is a great option for the beginner. Outlines of the tulips are an option for the more hesitant participant. We want you to relax and have fun! Great option for a date night or girls night out. Bring your favorite beverage/treats\, or enjoy a hot coffee or tea on us while you paint.  Ages 16+ is recommended. \n$40 \nProject Description: Acrylic paint on an 11×14 stretch canvas. Beginner level  Step by Step with Sara\, paint and sip style \nTicket Policy: \n*No refunds \n*Sign up in advance! Ticket sales close at 8PM the night before. Last minute inquiries\, call to check on availability. \n*Class minimum: 4 \n*In the event of not reaching the minimum\, class is subject to cancellation. \n*Cancellations by us will result in a credit towards a future class or a refund.
URL:https://kickscrosslake.com/event/tulips-in-the-rain/
LOCATION:Kicks the Art Place\, 36066 County Road 66\, Crosslake\, MN\, 56442\, United States
CATEGORIES:Adult painting
ATTACH;FMTTYPE=image/jpeg:https://kickscrosslake.com/wp-content/uploads/orange-tulips2-e1776702941182.jpeg
END:VEVENT
END:VCALENDAR