BEGIN:VCALENDAR
VERSION:2.0
PRODID:-//Kicks the Art Place | Art Classes, Repurposed Furniture, Gifts and More | Crosslake Minnesota - ECPv6.15.18//NONSGML v1.0//EN
CALSCALE:GREGORIAN
METHOD:PUBLISH
X-ORIGINAL-URL:https://kickscrosslake.com
X-WR-CALDESC:Events for Kicks the Art Place | Art Classes, Repurposed Furniture, Gifts and More | Crosslake Minnesota
REFRESH-INTERVAL;VALUE=DURATION:PT1H
X-Robots-Tag:noindex
X-PUBLISHED-TTL:PT1H
BEGIN:VTIMEZONE
TZID:America/Chicago
BEGIN:DAYLIGHT
TZOFFSETFROM:-0600
TZOFFSETTO:-0500
TZNAME:CDT
DTSTART:20240310T080000
END:DAYLIGHT
BEGIN:STANDARD
TZOFFSETFROM:-0500
TZOFFSETTO:-0600
TZNAME:CST
DTSTART:20241103T070000
END:STANDARD
BEGIN:DAYLIGHT
TZOFFSETFROM:-0600
TZOFFSETTO:-0500
TZNAME:CDT
DTSTART:20250309T080000
END:DAYLIGHT
BEGIN:STANDARD
TZOFFSETFROM:-0500
TZOFFSETTO:-0600
TZNAME:CST
DTSTART:20251102T070000
END:STANDARD
BEGIN:DAYLIGHT
TZOFFSETFROM:-0600
TZOFFSETTO:-0500
TZNAME:CDT
DTSTART:20260308T080000
END:DAYLIGHT
BEGIN:STANDARD
TZOFFSETFROM:-0500
TZOFFSETTO:-0600
TZNAME:CST
DTSTART:20261101T070000
END:STANDARD
BEGIN:DAYLIGHT
TZOFFSETFROM:-0600
TZOFFSETTO:-0500
TZNAME:CDT
DTSTART:20270314T080000
END:DAYLIGHT
BEGIN:STANDARD
TZOFFSETFROM:-0500
TZOFFSETTO:-0600
TZNAME:CST
DTSTART:20271107T070000
END:STANDARD
END:VTIMEZONE
BEGIN:VEVENT
DTSTART;TZID=America/Chicago:20260110T130000
DTEND;TZID=America/Chicago:20260110T153000
DTSTAMP:20260421T172816
CREATED:20251118T162550Z
LAST-MODIFIED:20260105T193623Z
UID:2102-1768050000-1768059000@kickscrosslake.com
SUMMARY:Winter Fox
DESCRIPTION:Our little red fox is either soaking up the last bit of sunlight on a short\, winter day\, or gazing into the morning’s rising sun. It’s up to you!  This “paint and sip”- style class is easier than it looks.  An outline of the fox is provided\, and we’ll even add some tree outlines by request. All levels of painters are welcome!  We provide coffee\, tea\, cocoa and cider\, or bring your own beverage and snacks to enjoy while you paint.    acrylic paint     11×14 stretch canvas.\n$45 \nAges 16+ recommended \nTicket Policy: \n*No refunds \n*Sign up in advance! Ticket sales close at 8PM the night before the event. Last minute inquiries\, call to check on availability. \n*Class minimum: 4 \n*In the event of not reaching the minimum\, class is subject to cancellation. \n*Cancellations by us will result in a credit towards a future class or a refund.
URL:https://kickscrosslake.com/event/winter-fox/
LOCATION:Kicks the Art Place\, 36066 County Road 66\, Crosslake\, MN\, 56442\, United States
CATEGORIES:Adult painting
ATTACH;FMTTYPE=image/jpeg:https://kickscrosslake.com/wp-content/uploads/IMG_1543-scaled.jpeg
END:VEVENT
BEGIN:VEVENT
DTSTART;TZID=America/Chicago:20250926T100000
DTEND;TZID=America/Chicago:20250926T140000
DTSTAMP:20260421T172816
CREATED:20250827T234641Z
LAST-MODIFIED:20250828T135812Z
UID:2073-1758880800-1758895200@kickscrosslake.com
SUMMARY:Painting Minnesota Landscapes with Paul Oman\, NWS
DESCRIPTION:Don’t miss this exciting opportunity to join us for a TWO DAY watercolor workshop with guest artist\, Paul Oman\, of Drawn to the Word\, Paul Oman Fine Art\, LLC.   (Option to attend first day only) Subjects covered: Lakes\, skies\, reflections\, trees\, birch trees and their characteristic bark and curls\, sunsets\, the cabin at the lake\, loons and more. Paul’s easy way of demonstrating will allow you to both further explore your current level of familiarity in painting\, and take next steps to challenge and grow your vision to see new possibilities. \nDates: Thursday and Friday\, September 25-26  Time: 10a-2p both days.  Cost: $75 one day;  $145 both days   (See Ticket Policy bottom of page)   Purchase your ticket from the Day One’s page description. \nDay 2 participants will create their own painting to take home. Option to mat your painting at the end of day 2. \nBring your own reference photos and painting supplies. (suggested list of supplies included below) \nSandwich lunch provided or BYO \n  \nMeet the artist:      A native of Amery\, Wisconsin\, Paul is a Signature Member of the National Watercolor Society and a Bold Brush International competition finalist for his watercolors. Painting since he was ten years of age\, Paul works full-time using his artistic abilities to bring hope\, inspiration\, and joy to the lives of others through art and its creative processes. He works in watercolor\, acrylic\, and oil. Founder of Drawn to the Word in 2011\, Paul paints large-scale canvases with high visual impact before audiences around the world. Paul lives near Deer Park\, Wisconsin with his wife\, Jana. They have three children. \nWebsites: www.paulomanfineart.com   www.drawn-to-the-word.com   Email: paul@paulomanfineart.com  FACEBOOK https://www.facebook.com/DrawnToTheWordPaulOmanFineArt \nSuggested List of Materials  \nPaul’s List of Materials:  \nI have listed materials that I use. You do not have to purchase these particular materials if you already have your own. Substitutes will do. \nPaints: I use Windsor $ Newton professional grade tube paints. There are several brands of professional grade watercolor paint available which are equally as good. Quality student grade watercolors (e.g. Academy [Grumbacher] or Cotman [Windsor & Newton] work OK and are less expensive. \nRecommended Colors:  Cadmium Yellow Light or Windsor Yellow\, Raw Sienna\, Raw Umber\, Burnt Sienna\, Alizarin Crimson\, French Ultramarine\, Cobalt Blue\, Cerulean Blue. \nAdditional Colors:  (not necessary but lots of fun!): Cadmium Red\, Permanent Rose\, Permanent Sap Green\, Quinacridone Gold\, Paynes Gray\, Permanent White Goauche. \nPainting Palette:      I use a John Pike painting palette. However\, any palette which has a larger-sized mixing area or areas is good. \nBrushes:     A variety of brushes will work. Here are some I use: \nFlats ranging from 1/2 to 2 in width. \nRounds\, #’s 6\, 8 & 10 \nA script brush (also called a rigger) for fine line detail. \nWatercolor Paper:       There are many papers you can buy. Your most cost-efficient means would be to buy a tablet of high quality watercolor paper. I prefer 140 pound Arches Cold Press or Rough paper\, either sheets or blocks (stack of paper glued together on the edges). Whatever paper you buy\, I strongly suggest you do NOT get a paper that has a shiny appearance to the surface. These can be very frustrating to paint on. In my opinion\, it is worth every penny to buy a higher quality paper so you can experience success. \nSomething to Put Your Paper On:     You will need a flat surface on which to place and/or fasten your paper\, such as a piece of plywood or tile board\, and a 2-3 in prop for under your board (wood block or book\, etc. ). \nOther Supplies that are helpful (*=required): \n*masking tape (I use this to tape my paper to the board) \n*#2 or softer pencil \n*kneaded eraser \n*sketch pad \n*sunglasses (helps to see values quickly) \nArt Masking Fluid (not necessary) \nSpray bottle for water (very helpful) \nsalt \nsponge \nWhere to get your supplies: \n1. I highly recommend Cheap Joe’s Art Stuff. They specialize in watercolor supplies. You can find them on-line at www.cheapjoes.com or give them a call at 1-800-227-2788. This is where I order my supplies and I have been completely satisfied for years. \n2. Another quality place is Art Supply Warehouse\, www.aswexpress.com  or 1-800-995-6778. \n3. Dick Blick Art Supplies. \n4. Michaels Craft Stores \n5. Amazon.com \nKicks the Art Place Ticket Policy: \n*No refunds \n*Register in advance! Registration closes at 8PM the night before. Last minute registrants\, call to check on availability. \n*We reserve the right to require a registration minimum; classes are subject to change. \n*Any cancellation by us will result in a credit towards a future class or a refund. \n  \n  \n  \n  \n  \n 
URL:https://kickscrosslake.com/event/painting-minnesota-landscapes-with-paul-oman-nws-2025-09-26/
LOCATION:Kicks the Art Place\, 36066 County Road 66\, Crosslake\, MN\, 56442\, United States
CATEGORIES:Adult Workshop
ATTACH;FMTTYPE=image/jpeg:https://kickscrosslake.com/wp-content/uploads/Paul-Oman2-e1756338323612.jpeg
END:VEVENT
BEGIN:VEVENT
DTSTART;TZID=America/Chicago:20250925T100000
DTEND;TZID=America/Chicago:20250925T140000
DTSTAMP:20260421T172816
CREATED:20250827T234641Z
LAST-MODIFIED:20250829T200955Z
UID:2069-1758794400-1758808800@kickscrosslake.com
SUMMARY:Painting Minnesota Landscapes with Paul Oman\, NWS
DESCRIPTION:Don’t miss this exciting opportunity to join us for a TWO DAY watercolor workshop with guest artist\, Paul Oman\, of Drawn to the Word\, Paul Oman Fine Art\, LLC.   (Option to attend one day only) Subjects covered: Lakes\, skies\, reflections\, trees\, birch trees and their characteristic bark and curls\, sunsets\, the cabin at the lake\, loons and more. Paul’s easy way of demonstrating will allow you to both further explore your current level of familiarity in painting\, and take next steps to challenge and grow your vision to see new possibilities. \nDates: Thursday and Friday\, September 25-26  Time: 10a-2p both days.  Cost: $75 one day;  $145 both days   Call the studio to register and secure your spot. 218-692-5425    Leave a message outside business hours. \nDay 2 participants will create their own painting to take home. Option to mat your painting at the end of day 2. \nBring your own reference photos and painting supplies. (suggested list of supplies included below) \nSandwich lunch provided or BYO \n  \nMeet the artist:      A native of Amery\, Wisconsin\, Paul is a Signature Member of the National Watercolor Society and a Bold Brush International competition finalist for his watercolors. Painting since he was ten years of age\, Paul works full-time using his artistic abilities to bring hope\, inspiration\, and joy to the lives of others through art and its creative processes. He works in watercolor\, acrylic\, and oil. Founder of Drawn to the Word in 2011\, Paul paints large-scale canvases with high visual impact before audiences around the world. Paul lives near Deer Park\, Wisconsin with his wife\, Jana. They have three children. \nWebsites: www.paulomanfineart.com   www.drawn-to-the-word.com   Email: paul@paulomanfineart.com  FACEBOOK https://www.facebook.com/DrawnToTheWordPaulOmanFineArt \nSuggested List of Materials  \nPaul’s List of Materials:  \nI have listed materials that I use. You do not have to purchase these particular materials if you already have your own. Substitutes will do. \nPaints: I use Windsor $ Newton professional grade tube paints. There are several brands of professional grade watercolor paint available which are equally as good. Quality student grade watercolors (e.g. Academy [Grumbacher] or Cotman [Windsor & Newton] work OK and are less expensive. \nRecommended Colors:  Cadmium Yellow Light or Windsor Yellow\, Raw Sienna\, Raw Umber\, Burnt Sienna\, Alizarin Crimson\, French Ultramarine\, Cobalt Blue\, Cerulean Blue. \nAdditional Colors:  (not necessary but lots of fun!): Cadmium Red\, Permanent Rose\, Permanent Sap Green\, Quinacridone Gold\, Paynes Gray\, Permanent White Goauche. \nPainting Palette:      I use a John Pike painting palette. However\, any palette which has a larger-sized mixing area or areas is good. \nBrushes:     A variety of brushes will work. Here are some I use: \nFlats ranging from 1/2 to 2 in width. \nRounds\, #’s 6\, 8 & 10 \nA script brush (also called a rigger) for fine line detail. \nWatercolor Paper:       There are many papers you can buy. Your most cost-efficient means would be to buy a tablet of high quality watercolor paper. I prefer 140 pound Arches Cold Press or Rough paper\, either sheets or blocks (stack of paper glued together on the edges). Whatever paper you buy\, I strongly suggest you do NOT get a paper that has a shiny appearance to the surface. These can be very frustrating to paint on. In my opinion\, it is worth every penny to buy a higher quality paper so you can experience success. \nSomething to Put Your Paper On:     You will need a flat surface on which to place and/or fasten your paper\, such as a piece of plywood or tile board\, and a 2-3 in prop for under your board (wood block or book\, etc. ). \nOther Supplies that are helpful (*=required): \n*masking tape (I use this to tape my paper to the board) \n*#2 or softer pencil \n*kneaded eraser \n*sketch pad \n*sunglasses (helps to see values quickly) \nArt Masking Fluid (not necessary) \nSpray bottle for water (very helpful) \nsalt \nsponge \nWhere to get your supplies: \n1. I highly recommend Cheap Joe’s Art Stuff. They specialize in watercolor supplies. You can find them on-line at www.cheapjoes.com or give them a call at 1-800-227-2788. This is where I order my supplies and I have been completely satisfied for years. \n2. Another quality place is Art Supply Warehouse\, www.aswexpress.com  or 1-800-995-6778. \n3. Dick Blick Art Supplies. \n4. Michaels Craft Stores \n5. Amazon.com \nKicks the Art Place Ticket Policy: \n*No refunds \n*Register in advance! Registration closes Monday the 22nd.  Last minute registrants\, call to check on availability. \n*We reserve the right to require a registration minimum; classes are subject to change. \n*Any cancellation by us will result in a credit towards a future class or a refund. \n  \n  \n  \n  \n  \n 
URL:https://kickscrosslake.com/event/painting-minnesota-landscapes-with-paul-oman-nws/2025-09-25/
LOCATION:Kicks the Art Place\, 36066 County Road 66\, Crosslake\, MN\, 56442\, United States
CATEGORIES:Adult Workshop
ATTACH;FMTTYPE=image/jpeg:https://kickscrosslake.com/wp-content/uploads/Paul-Oman2-e1756338323612.jpeg
END:VEVENT
BEGIN:VEVENT
DTSTART;TZID=America/Chicago:20250920T130000
DTEND;TZID=America/Chicago:20250920T170000
DTSTAMP:20260421T172816
CREATED:20250812T024150Z
LAST-MODIFIED:20250818T011618Z
UID:2033-1758373200-1758387600@kickscrosslake.com
SUMMARY:Fall Signboard Workshop
DESCRIPTION:The fall sign board is back for another workshop! You can come paint this on a new signboard\, or bring back your spring\, summer\, or winter signboards and paint the other side for a $10 discount. This signboard doesn’t require any prep-work; we begin on the raw\, unfinished wood. Our signboard workshops are 4 hours\, as we like to take our time\, and take a break in the middle as needed. Bring your favorite snacks & beverages\, or enjoy a coffee or tea we have available. This is a beautiful sign to put on your front step September-November! We believe the “Welcome” for our signboards are understood by the viewer as they approach your front door. With art like this\, how could they not feel welcomed? There’s no need for drawing skills to paint this design\, we provide graphite transfer paper to transfer your image. These workshops are for adults 18+ please! Come and join us for our final design to complete our 4-season collection- the fall sign board Red-Winged Blackbird! Register in ADVANCE\, seating is limited for signboard workshops.\n$89\nTicket Policy:\n*No refunds\n*Register in advance! Registration closes at 8PM the night before. Last minute registrants\, call to check on availability.\n*We reserve the right to require a registration minimum; classes are subject to change.\n*Any cancellation by us will result in a credit towards a future class or a refund.
URL:https://kickscrosslake.com/event/fall-signboard-workshop/
LOCATION:Kicks the Art Place\, 36066 County Road 66\, Crosslake\, MN\, 56442\, United States
CATEGORIES:Adult Workshop
ATTACH;FMTTYPE=image/jpeg:https://kickscrosslake.com/wp-content/uploads/Fall-Signboard-Workshop.jpeg
END:VEVENT
BEGIN:VEVENT
DTSTART;TZID=America/Chicago:20250802T150000
DTEND;TZID=America/Chicago:20250802T180000
DTSTAMP:20260421T172816
CREATED:20250619T192145Z
LAST-MODIFIED:20250619T192145Z
UID:1960-1754146800-1754157600@kickscrosslake.com
SUMMARY:Loose Watercolor Painting Workshop
DESCRIPTION:Ever wondered how to paint loosely with watercolor for that “effortless” look? Try the tricks of the trade with local artist\, Sara Porter\, as your instructor. With demonstrations and one-on-one assistance\, this is a hands-on experience that will open up your painting to a whole new world! This is a 3 hour workshop with a focus on learning rather than our regular paint-along classes. All supplies are provided\, but you may bring any of your own favorite watercolor paints\, brushes or paper.   We will be practicing on Strathmore 400 Series cold press 140 lb paper.  This workshop is designed for adults and teens ages 16+\, of beginner level.  If you’ve dabbled with watercolor and struggle to “let go” of tight detail control\, or have always wanted to try watercolor–this is the class for you!  Techniques and subjects covered may include\, but not limited to\, the images shown.  Learn how to start a painting when you have painters block\, and practice “seeing” in shapes and patterns to develop your subject.  Learn how to let watercolor do what it does best.  Bring your favorite beverages and treats\, but as always\, enjoy a coffee or tea on us. Seating is limited to 8 to ensure ease of visibility and maximize the one-on-one time per person.  Don’t wait to register! \n$50 \nTicket Policy: \n*No refunds \n*Register in advance! Registration closes at 8PM the night before. Last minute registrants\, call to check on availability. \n*We reserve the right to require a registration minimum; classes are subject to change. \n*Any cancellation by us will result in a credit towards a future class or a refund.
URL:https://kickscrosslake.com/event/loose-watercolor-painting-workshop/
LOCATION:MN
CATEGORIES:Adult Workshop
ATTACH;FMTTYPE=image/jpeg:https://kickscrosslake.com/wp-content/uploads/loose-watercolor-poster.jpeg
END:VEVENT
END:VCALENDAR