BEGIN:VCALENDAR
VERSION:2.0
PRODID:-//Kicks the Art Place | Art Classes, Repurposed Furniture, Gifts and More | Crosslake Minnesota - ECPv6.15.18//NONSGML v1.0//EN
CALSCALE:GREGORIAN
METHOD:PUBLISH
X-ORIGINAL-URL:https://kickscrosslake.com
X-WR-CALDESC:Events for Kicks the Art Place | Art Classes, Repurposed Furniture, Gifts and More | Crosslake Minnesota
REFRESH-INTERVAL;VALUE=DURATION:PT1H
X-Robots-Tag:noindex
X-PUBLISHED-TTL:PT1H
BEGIN:VTIMEZONE
TZID:America/Chicago
BEGIN:DAYLIGHT
TZOFFSETFROM:-0600
TZOFFSETTO:-0500
TZNAME:CDT
DTSTART:20250309T080000
END:DAYLIGHT
BEGIN:STANDARD
TZOFFSETFROM:-0500
TZOFFSETTO:-0600
TZNAME:CST
DTSTART:20251102T070000
END:STANDARD
BEGIN:DAYLIGHT
TZOFFSETFROM:-0600
TZOFFSETTO:-0500
TZNAME:CDT
DTSTART:20260308T080000
END:DAYLIGHT
BEGIN:STANDARD
TZOFFSETFROM:-0500
TZOFFSETTO:-0600
TZNAME:CST
DTSTART:20261101T070000
END:STANDARD
BEGIN:DAYLIGHT
TZOFFSETFROM:-0600
TZOFFSETTO:-0500
TZNAME:CDT
DTSTART:20270314T080000
END:DAYLIGHT
BEGIN:STANDARD
TZOFFSETFROM:-0500
TZOFFSETTO:-0600
TZNAME:CST
DTSTART:20271107T070000
END:STANDARD
END:VTIMEZONE
BEGIN:VEVENT
DTSTART;TZID=America/Chicago:20260501T180000
DTEND;TZID=America/Chicago:20260501T200000
DTSTAMP:20260421T172200
CREATED:20260417T174328Z
LAST-MODIFIED:20260420T171757Z
UID:2288-1777658400-1777665600@kickscrosslake.com
SUMMARY:May Day Hoop Wreath
DESCRIPTION:Join us on May Day\, Friday evening\, for a hands-on learning experience with hoop wreath arranging. These hoops are a beautiful\, versatile option for a variety of events and purposes. With demos and instruction\, you will make your own hoop wreath with our supplies. (Feel free to bring any special florals you want to use!) Take home your own wreath and the acquired skills to implement these hoops into your future display needs. This is a paint and sip style class! Bring your own beverage or enjoy a hot coffee or tea on us. You are welcome to bring your own snacks as well. Ages 18+ please.\n$50\nProject Description: One 12” gold hoop\, silk florals\, optional block (for making it free standing). various ribbon and embellishments. Materials will include hot glue\, floral tape\, floral wire and tools such as wire cutters\, pliers and scissors. All materials provided.\nTicket Policy: \n*No refunds \n*Sign up in advance! Ticket sales close at 8PM 2 NIGHTS before. Last minute inquiries\, call to check on availability. \n*Class minimum: 4 \n*In the event of not reaching the minimum\, class is subject to cancellation. \n*Cancellations by us will result in a credit towards a future class or a refund.
URL:https://kickscrosslake.com/event/may-day-hoop-wreath/
LOCATION:Kicks the Art Place\, 36066 County Road 66\, Crosslake\, MN\, 56442\, United States
CATEGORIES:Adult Workshop
ATTACH;FMTTYPE=image/jpeg:https://kickscrosslake.com/wp-content/uploads/Hoop-Wreath-May-Day2.jpeg
END:VEVENT
BEGIN:VEVENT
DTSTART;TZID=America/Chicago:20260516T140000
DTEND;TZID=America/Chicago:20260516T170000
DTSTAMP:20260421T172200
CREATED:20260420T145420Z
LAST-MODIFIED:20260420T145420Z
UID:2296-1778940000-1778950800@kickscrosslake.com
SUMMARY:The Cherry Blossom Tree
DESCRIPTION:Enjoy the beauty of the blossoming trees minus the allergies!  Sara paints with you\, step by step\,  a charming\, storybook scene of an old tire swing under a tree in its full bloom. This painting offers us some intermediate level opportunities\, yet is easily simplified for the beginner! For the intermediate painter\, learn how to paint layers of land with a path leading to the swing\, giving us that illusion of space and distance. A simplified version removes the extra land\, and simplifies the foreground. Try new brush techniques with Sara to create all the various shades of pink in the tree. There are many tricks and strategies\, come and discover them!  Ages 16+ is recommended. \n$45 \nProject Description: Acrylic paint  12×16 stretched canvas   Intermediate/later beginner level\, with simplified options for a beginner. \nTicket Policy: \n*No refunds \n*Sign up in advance! Ticket sales close at 8PM the night before. Last minute inquiries\, call to check on availability. \n*Class minimum: 4 \n*In the event of not reaching the minimum\, class is subject to cancellation. \n*Cancellations by us will result in a credit towards a future class or a refund.
URL:https://kickscrosslake.com/event/the-cherry-blossom-tree-2/
LOCATION:Kicks the Art Place\, 36066 County Road 66\, Crosslake\, MN\, 56442\, United States
CATEGORIES:Adult painting
ATTACH;FMTTYPE=image/jpeg:https://kickscrosslake.com/wp-content/uploads/FullSizeRender-4-scaled.jpeg
END:VEVENT
END:VCALENDAR