BEGIN:VCALENDAR
VERSION:2.0
PRODID:-//Kicks the Art Place | Art Classes, Repurposed Furniture, Gifts and More | Crosslake Minnesota - ECPv6.15.18//NONSGML v1.0//EN
CALSCALE:GREGORIAN
METHOD:PUBLISH
X-ORIGINAL-URL:https://kickscrosslake.com
X-WR-CALDESC:Events for Kicks the Art Place | Art Classes, Repurposed Furniture, Gifts and More | Crosslake Minnesota
REFRESH-INTERVAL;VALUE=DURATION:PT1H
X-Robots-Tag:noindex
X-PUBLISHED-TTL:PT1H
BEGIN:VTIMEZONE
TZID:America/Chicago
BEGIN:DAYLIGHT
TZOFFSETFROM:-0600
TZOFFSETTO:-0500
TZNAME:CDT
DTSTART:20240310T080000
END:DAYLIGHT
BEGIN:STANDARD
TZOFFSETFROM:-0500
TZOFFSETTO:-0600
TZNAME:CST
DTSTART:20241103T070000
END:STANDARD
BEGIN:DAYLIGHT
TZOFFSETFROM:-0600
TZOFFSETTO:-0500
TZNAME:CDT
DTSTART:20250309T080000
END:DAYLIGHT
BEGIN:STANDARD
TZOFFSETFROM:-0500
TZOFFSETTO:-0600
TZNAME:CST
DTSTART:20251102T070000
END:STANDARD
BEGIN:DAYLIGHT
TZOFFSETFROM:-0600
TZOFFSETTO:-0500
TZNAME:CDT
DTSTART:20260308T080000
END:DAYLIGHT
BEGIN:STANDARD
TZOFFSETFROM:-0500
TZOFFSETTO:-0600
TZNAME:CST
DTSTART:20261101T070000
END:STANDARD
BEGIN:DAYLIGHT
TZOFFSETFROM:-0600
TZOFFSETTO:-0500
TZNAME:CDT
DTSTART:20270314T080000
END:DAYLIGHT
BEGIN:STANDARD
TZOFFSETFROM:-0500
TZOFFSETTO:-0600
TZNAME:CST
DTSTART:20271107T070000
END:STANDARD
END:VTIMEZONE
BEGIN:VEVENT
DTSTART;TZID=America/Chicago:20260110T130000
DTEND;TZID=America/Chicago:20260110T153000
DTSTAMP:20260422T184600
CREATED:20251118T162550Z
LAST-MODIFIED:20260105T193623Z
UID:2102-1768050000-1768059000@kickscrosslake.com
SUMMARY:Winter Fox
DESCRIPTION:Our little red fox is either soaking up the last bit of sunlight on a short\, winter day\, or gazing into the morning’s rising sun. It’s up to you!  This “paint and sip”- style class is easier than it looks.  An outline of the fox is provided\, and we’ll even add some tree outlines by request. All levels of painters are welcome!  We provide coffee\, tea\, cocoa and cider\, or bring your own beverage and snacks to enjoy while you paint.    acrylic paint     11×14 stretch canvas.\n$45 \nAges 16+ recommended \nTicket Policy: \n*No refunds \n*Sign up in advance! Ticket sales close at 8PM the night before the event. Last minute inquiries\, call to check on availability. \n*Class minimum: 4 \n*In the event of not reaching the minimum\, class is subject to cancellation. \n*Cancellations by us will result in a credit towards a future class or a refund.
URL:https://kickscrosslake.com/event/winter-fox/
LOCATION:Kicks the Art Place\, 36066 County Road 66\, Crosslake\, MN\, 56442\, United States
CATEGORIES:Adult painting
ATTACH;FMTTYPE=image/jpeg:https://kickscrosslake.com/wp-content/uploads/IMG_1543-scaled.jpeg
END:VEVENT
BEGIN:VEVENT
DTSTART;TZID=America/Chicago:20260103T130000
DTEND;TZID=America/Chicago:20260103T160000
DTSTAMP:20260422T184600
CREATED:20251118T171658Z
LAST-MODIFIED:20251118T173255Z
UID:2104-1767445200-1767456000@kickscrosslake.com
SUMMARY:Paint the Northern Lights in Water Mixable Oil Paint
DESCRIPTION:Many Minnesotans saw the Northern Lights this past November\, and some captured beautiful photos of the reds and greens. Why not try your hand at painting them? If you’ve never tried water-mixable oil\, you’re in for a real treat!  “Water-Mixable Oil” sounds like an oxymoron! This paint offers the benefits of oil paint with the easy clean up of soap and water instead of paint thinner. While acrylic paint dries quickly\, limiting the paint’s ability to blend smoothly\, this paint remains wet like traditional oil paint\, allowing for beautiful blending that oil painters love. We take advantage of this “open paint time” to create the glowing streaks of color in the sky and snow that looks as soft as a blanket. As usual\, this is a paint and sip style class\, so enjoy a hot beverage on us\, or bring you own favorite beverage or snack. Allow for a full 3 hours\, and prepare to leave with a tacky-wet painting. We recommend hanging your painting on a nail out of reach and just enjoy looking at it while it dries. Drying time varies with humidity levels and paint thickness. Faster than traditional oil paint\, thin layers of this paint can be dry to the touch within hours to a few days\, thicker layers can take several days to a week or more. We paint this on a larger canvas- 16×20.  We feel it is a deserving subject for at least that much! \n“Kick-in” the New Year with us at Kicks! \nThis class is for ages 18+ please! \n$50 \nTicket Policy: \n*No refunds \n*Register in advance! Registration closes at 8PM the night before the event. Last minute registrants\, call to check on availability. \n*Class minimum: 4 \n*In the event of not reaching the minimum\, class is subject to cancellation. \n*Cancellations by us will result in a credit towards a future class or a refund.
URL:https://kickscrosslake.com/event/paint-the-northern-lights-in-water-mixable-oil-paint/
LOCATION:Kicks the Art Place\, 36066 County Road 66\, Crosslake\, MN\, 56442\, United States
CATEGORIES:Adult painting
ATTACH;FMTTYPE=image/jpeg:https://kickscrosslake.com/wp-content/uploads/northern-lights-1-scaled.jpg
END:VEVENT
BEGIN:VEVENT
DTSTART;TZID=America/Chicago:20250920T130000
DTEND;TZID=America/Chicago:20250920T170000
DTSTAMP:20260422T184600
CREATED:20250812T024150Z
LAST-MODIFIED:20250818T011618Z
UID:2033-1758373200-1758387600@kickscrosslake.com
SUMMARY:Fall Signboard Workshop
DESCRIPTION:The fall sign board is back for another workshop! You can come paint this on a new signboard\, or bring back your spring\, summer\, or winter signboards and paint the other side for a $10 discount. This signboard doesn’t require any prep-work; we begin on the raw\, unfinished wood. Our signboard workshops are 4 hours\, as we like to take our time\, and take a break in the middle as needed. Bring your favorite snacks & beverages\, or enjoy a coffee or tea we have available. This is a beautiful sign to put on your front step September-November! We believe the “Welcome” for our signboards are understood by the viewer as they approach your front door. With art like this\, how could they not feel welcomed? There’s no need for drawing skills to paint this design\, we provide graphite transfer paper to transfer your image. These workshops are for adults 18+ please! Come and join us for our final design to complete our 4-season collection- the fall sign board Red-Winged Blackbird! Register in ADVANCE\, seating is limited for signboard workshops.\n$89\nTicket Policy:\n*No refunds\n*Register in advance! Registration closes at 8PM the night before. Last minute registrants\, call to check on availability.\n*We reserve the right to require a registration minimum; classes are subject to change.\n*Any cancellation by us will result in a credit towards a future class or a refund.
URL:https://kickscrosslake.com/event/fall-signboard-workshop/
LOCATION:Kicks the Art Place\, 36066 County Road 66\, Crosslake\, MN\, 56442\, United States
CATEGORIES:Adult Workshop
ATTACH;FMTTYPE=image/jpeg:https://kickscrosslake.com/wp-content/uploads/Fall-Signboard-Workshop.jpeg
END:VEVENT
BEGIN:VEVENT
DTSTART;TZID=America/Chicago:20250830T130000
DTEND;TZID=America/Chicago:20250830T170000
DTSTAMP:20260422T184600
CREATED:20250729T215937Z
LAST-MODIFIED:20250818T011952Z
UID:2004-1756558800-1756573200@kickscrosslake.com
SUMMARY:Fall Signboard Workshop: Red-Winged Black Bird
DESCRIPTION:The fall sign board is finished and ready for a workshop! You can come paint this on a new signboard\, or bring back your spring\, summer\, or winter signboards and paint the other side for a $10 discount. This signboard doesn’t require any prep-work; we begin on the raw\, unfinished wood. Our signboard workshops are 4 hours\, as we like to take our time\, and take a break in the middle as needed. Bring your favorite snacks & beverages\, or enjoy a coffee or tea we have available. This is a beautiful sign to put on your front step September-November! We believe the “Welcome” for our signboards are understood by the viewer as they approach your front door. With art like this\, how could they not feel welcomed?   There’s no need for drawing skills to paint this design\, we provide graphite transfer paper to transfer your image. These workshops are for adults 18+ please! Come and join us for our final design to complete our 4-season collection- the fall sign board Red-Winged Blackbird! Register in ADVANCE\, seating is limited for signboard workshops. \n$89 \nTicket Policy: \n*No refunds \n*Register in advance! Registration closes at 8PM the night before. Last minute registrants\, call to check on availability. \n*We reserve the right to require a registration minimum; classes are subject to change. \n*Any cancellation by us will result in a credit towards a future class or a refund.
URL:https://kickscrosslake.com/event/fall-signboard-workshop-red-winged-black-bird/
LOCATION:Kicks the Art Place\, 36066 County Road 66\, Crosslake\, MN\, 56442\, United States
CATEGORIES:Adult Workshop
ATTACH;FMTTYPE=image/jpeg:https://kickscrosslake.com/wp-content/uploads/Fall-Signboard-Workshop.jpeg
END:VEVENT
BEGIN:VEVENT
DTSTART;TZID=America/Chicago:20250822T173000
DTEND;TZID=America/Chicago:20250822T203000
DTSTAMP:20260422T184600
CREATED:20250731T203239Z
LAST-MODIFIED:20250731T212748Z
UID:2008-1755883800-1755894600@kickscrosslake.com
SUMMARY:Marsh in the Moonlight
DESCRIPTION:Here in the land of 10\,000 lakes\, we appreciate the beauty of our ponds\, wetlands\, channels and bays. This painting brings up countless memories of Minnesota nights by the water. Hints of metallic paint on the grasses add an extra glow. Sara will help you every step of the way\, so you can have a great time with your friends\, a date night\, or just a night out for yourself. This painting is with acrylic paint on a 12×16 canvas. Ages 16+ please! \n$45 \nTicket Policy: \n*No refunds \n*Register in advance! Registration closes at 8PM the night before. Last minute registrants\, call to check on availability. \n*We reserve the right to require a registration minimum; classes are subject to change. \n*Any cancellation by us will result in a credit towards a future class or a refund.
URL:https://kickscrosslake.com/event/marsh-in-the-moonlight/
LOCATION:Kicks the Art Place\, 36066 County Road 66\, Crosslake\, MN\, 56442\, United States
CATEGORIES:Adult painting
ATTACH;FMTTYPE=image/jpeg:https://kickscrosslake.com/wp-content/uploads/Marsh-scaled.jpg
END:VEVENT
BEGIN:VEVENT
DTSTART;TZID=America/Chicago:20250816T180000
DTEND;TZID=America/Chicago:20250816T200000
DTSTAMP:20260422T184600
CREATED:20250716T211854Z
LAST-MODIFIED:20250716T211854Z
UID:1994-1755367200-1755374400@kickscrosslake.com
SUMMARY:Fall Reflections
DESCRIPTION:Fall is around the corner\, whether we like to think about it or not. Why not focus on the beauty to come! Soft\, autumn colors reflect over still waters in this 12×16 painting in acrylic paint. When those colors start to change\, you’ll be ready with your new painting to display. Bring your favorite snacks & beverages or enjoy a coffee or tea on us. \n$40 \nTicket Policy: \n*No refunds \n*Register in advance! Registration closes at 8PM the night before. Last minute registrants\, call to check on availability. \n*We reserve the right to require a registration minimum; classes are subject to change. \n*Any cancellation by us will result in a credit towards a future class or a refund.
URL:https://kickscrosslake.com/event/fall-reflections/
LOCATION:Kicks the Art Place\, 36066 County Road 66\, Crosslake\, MN\, 56442\, United States
CATEGORIES:Adult painting
ATTACH;FMTTYPE=image/jpeg:https://kickscrosslake.com/wp-content/uploads/fall-reflections-scaled.jpg
END:VEVENT
BEGIN:VEVENT
DTSTART;TZID=America/Chicago:20250807T060000
DTEND;TZID=America/Chicago:20250807T200000
DTSTAMP:20260422T184600
CREATED:20250716T204712Z
LAST-MODIFIED:20250716T211015Z
UID:1991-1754546400-1754596800@kickscrosslake.com
SUMMARY:Sailing in the Sunset: Adults and Teens 13+
DESCRIPTION:This class is for adults and teens 13+. While the original is on an 8×10\, we will be painting on a 12×16 canvas. Two sailboats silhouette against a brilliant sunset. Many of us are blessed to witness sunsets such as this on the Whitefish Chain.  Dark purple clouds streak across orange\, pink and red skies. We will blend each color transition\, step by step\, with Sara\, our instructor. Bring a beverage or enjoy a coffee or tea on us. \n$40 \nTicket Policy: \n*No refunds \n*Register in advance! Registration closes at 8PM the night before. Last minute registrants\, call to check on availability. \n*We reserve the right to require a registration minimum; classes are subject to change. \n*Any cancellation by us will result in a credit towards a future class or a refund.
URL:https://kickscrosslake.com/event/sailing-in-the-sunset-adults-and-teens-13/
LOCATION:Kicks the Art Place\, 36066 County Road 66\, Crosslake\, MN\, 56442\, United States
CATEGORIES:Teens and Adult painting
ATTACH;FMTTYPE=image/jpeg:https://kickscrosslake.com/wp-content/uploads/sunset-scaled.jpg
END:VEVENT
BEGIN:VEVENT
DTSTART;TZID=America/Chicago:20250725T173000
DTEND;TZID=America/Chicago:20250725T203000
DTSTAMP:20260422T184600
CREATED:20250603T183035Z
LAST-MODIFIED:20250603T183035Z
UID:1914-1753464600-1753475400@kickscrosslake.com
SUMMARY:Marsh in Moonlight
DESCRIPTION:Here in the land of 10\,000 lakes\, we also appreciate the beauty of our ponds\, wetlands\, channels and bays. This painting brings countless memories of Minnesota nights by the water.  This painting is much easier to paint than it may appear! Never under-estimate the usefulness of a hair dryer in the art studio– Yes\, we dry layers of paint to achieve the bright reflections on the water and golden moon-lit grasses.  A fan brush is the perfect tool for those wispy grasses\, and a little metallic paint doesn’t hurt either! Sara will help you every step of the way\, so you can have a great time with your friends or just a night out for yourself. This painting is with acrylic paint on a 12×16 canvas. Ages 16+ please! \n$45 \nTicket Policy: \n*No refunds \n*Register in advance! Registration closes at 8PM the night before. Last minute registrants\, call to check on availability. \n*We reserve the right to require a registration minimum; classes are subject to change. \n*Any cancellation by us will result in a credit towards a future class or a refund.
URL:https://kickscrosslake.com/event/marsh-in-moonlight/
LOCATION:Kicks the Art Place\, 36066 County Road 66\, Crosslake\, MN\, 56442\, United States
CATEGORIES:Adult painting
ATTACH;FMTTYPE=image/jpeg:https://kickscrosslake.com/wp-content/uploads/Marsh-scaled.jpg
END:VEVENT
BEGIN:VEVENT
DTSTART;TZID=America/Chicago:20250717T180000
DTEND;TZID=America/Chicago:20250717T200000
DTSTAMP:20260422T184600
CREATED:20250603T190800Z
LAST-MODIFIED:20250603T190800Z
UID:1920-1752775200-1752782400@kickscrosslake.com
SUMMARY:Fishing Lures
DESCRIPTION:This paint-along class is open to teens 13+ through adults of all ages! No experience necessary. Great class for the hesitant painter out there. Outlines are provided on 11×14 stretch canvases. Paint along\, step by step\, with acrylic paint. Some variations in color choices are possible.  Register in advance! See our ticket policy below. \n$40 \nTicket Policy: \n*No refunds \n*Register in advance! Registration closes at 8PM the night before. Last minute registrants\, call to check on availability. \n*We reserve the right to require a registration minimum; classes are subject to change. \n*Any cancellation by us will result in a credit towards a future class or a refund.
URL:https://kickscrosslake.com/event/fishing-lures/
LOCATION:Kicks the Art Place\, 36066 County Road 66\, Crosslake\, MN\, 56442\, United States
CATEGORIES:Teens and Adult painting
ATTACH;FMTTYPE=image/jpeg:https://kickscrosslake.com/wp-content/uploads/fishing-lures-scaled.jpg
END:VEVENT
BEGIN:VEVENT
DTSTART;TZID=America/Chicago:20250705T110000
DTEND;TZID=America/Chicago:20250705T130000
DTSTAMP:20260422T184600
CREATED:20250701T222603Z
LAST-MODIFIED:20250701T222603Z
UID:1979-1751713200-1751720400@kickscrosslake.com
SUMMARY:Wood Welcome Signs
DESCRIPTION:Choose one of these signs to paint in our newly designed studio!  We have added a fresh\, new look to the front of our store: a work studio for demos and classes in a variety of subjects\, including but not limited to: Wood signage\, transfer appliqués\, clay molds\, patina finishes and Paint Couture paint for home decor and furniture re-do. Come see what’s new while painting your own welcome sign for the home or cabin.\n***Call the studio to register for this class! 218-692-5425 \nTicket Policy: \n*No refunds \n*Register in advance! Registration closes at 8PM the night before. Last minute registrants\, call to check on availability. \n*We reserve the right to require a registration minimum; classes are subject to change. \n*Any cancellation by us will result in a credit towards a future class or a refund.
URL:https://kickscrosslake.com/event/wood-welcome-signs/
LOCATION:Kicks the Art Place\, 36066 County Road 66\, Crosslake\, MN\, 56442\, United States
CATEGORIES:Adult Workshop
ATTACH;FMTTYPE=image/jpeg:https://kickscrosslake.com/wp-content/uploads/IMG_3079.jpeg
END:VEVENT
BEGIN:VEVENT
DTSTART;TZID=America/Chicago:20250628T143000
DTEND;TZID=America/Chicago:20250628T173000
DTSTAMP:20260422T184600
CREATED:20250514T004301Z
LAST-MODIFIED:20250514T004301Z
UID:1877-1751121000-1751131800@kickscrosslake.com
SUMMARY:Babe's Catch
DESCRIPTION:Babe the Blue Ox is back this summer with his silly antics! A must-have for your cabin or a great date option! Finish in time to catch dinner and music in Town Square. An outline is provided on a larger\, 16×20 canvas\, so no drawing skills are needed.  Paint along\, step by step\, and find the painter within you never knew was there! Bring a positive attitude and be ready to have some fun. Ages 16+ please! \n$50 \nTicket Policy: \n*No refunds \n*Register in advance! Registration closes at 8PM the night before. Last minute registrants\, call to check on availability. \n*We reserve the right to require a registration minimum; classes are subject to change. \n*Any cancellation by us will result in a credit towards a future class or a refund.
URL:https://kickscrosslake.com/event/babes-catch-2/
LOCATION:Kicks the Art Place\, 36066 County Road 66\, Crosslake\, MN\, 56442\, United States
CATEGORIES:Adult painting
ATTACH;FMTTYPE=image/jpeg:https://kickscrosslake.com/wp-content/uploads/IMG_3992-scaled.jpeg
END:VEVENT
BEGIN:VEVENT
DTSTART;TZID=America/Chicago:20250621T153000
DTEND;TZID=America/Chicago:20250621T180000
DTSTAMP:20260422T184600
CREATED:20250513T231216Z
LAST-MODIFIED:20250513T232552Z
UID:1870-1750519800-1750528800@kickscrosslake.com
SUMMARY:Loon Call
DESCRIPTION:In honor of the annual Loon Festival in Crosslake\, we have chosen “Loon Call” to paint on Saturday the 21st of June. After enjoying many of the events in town\, make your day complete with a loon painting all your own! Finish in time to hit the food trucks before they close and enjoy the live music in Town Square. (Visit the Crosslake Chamber website for a full Loon Festival schedule) Feel free to bring your own food and snacks to munch on as you paint. Coffee and tea are available. This painting is done with acrylic paint\, on an 11×14 canvas. Follow along\, step by step with your friends or family (16+ please) and make it a memorable weekend sure to become a tradition. $45 \nTicket Policy: \n*No refunds \n*Register in advance! Registration closes at 8PM the night before. Last minute registrants\, call to check on availability. \n*We reserve the right to require a registration minimum; classes are subject to change. \n*Any cancellation by us will result in a credit towards a future class or a refund.
URL:https://kickscrosslake.com/event/loon-call-2/
LOCATION:Kicks the Art Place\, 36066 County Road 66\, Crosslake\, MN\, 56442\, United States
CATEGORIES:Adult painting
ATTACH;FMTTYPE=image/jpeg:https://kickscrosslake.com/wp-content/uploads/IMG_3605-scaled.jpeg
END:VEVENT
BEGIN:VEVENT
DTSTART;TZID=America/Chicago:20250614T180000
DTEND;TZID=America/Chicago:20250614T203000
DTSTAMP:20260422T184600
CREATED:20250514T001202Z
LAST-MODIFIED:20250514T001507Z
UID:1872-1749924000-1749933000@kickscrosslake.com
SUMMARY:Blue Dasher: The Beginner Version
DESCRIPTION:The Blue Dasher dragonfly has been simplified for beginners! We provide an outline of the dragonfly\, so no drawing skills are needed. Step by step\, you can paint a beautiful dragonfly in acrylic paint on a 12×16 canvas. 16+ please! \n$45 \nTicket Policy: \n*No refunds \n*Register in advance! Registration closes at 8PM the night before. Last minute registrants\, call to check on availability. \n*We reserve the right to require a registration minimum; classes are subject to change. \n*Any cancellation by us will result in a credit towards a future class or a refund.
URL:https://kickscrosslake.com/event/blue-dasher-the-beginner-version/
LOCATION:Kicks the Art Place\, 36066 County Road 66\, Crosslake\, MN\, 56442\, United States
CATEGORIES:Adult painting
ATTACH;FMTTYPE=image/jpeg:https://kickscrosslake.com/wp-content/uploads/Blue-Dasher-beginner-2-scaled.jpg
END:VEVENT
BEGIN:VEVENT
DTSTART;TZID=America/Chicago:20250614T140000
DTEND;TZID=America/Chicago:20250614T160000
DTSTAMP:20260422T184600
CREATED:20250603T185336Z
LAST-MODIFIED:20250603T185336Z
UID:1917-1749909600-1749916800@kickscrosslake.com
SUMMARY:Fishing Lures for Father's Day
DESCRIPTION:Need an activity with Dad for Father’s Day or a gift? Come on over\, Saturday\, June 14 and paint with us! Outlines are provided on 11×14 stretch canvases. Paint along\, step by step\, with acrylic paint. Some variations in color choices are possible. We are opening this class up for teens 13+.  Register in advance! See our ticket policy below. \n$40 \nTicket Policy: \n*No refunds \n*Register in advance! Registration closes at 8PM the night before. Last minute registrants\, call to check on availability. \n*We reserve the right to require a registration minimum; classes are subject to change. \n*Any cancellation by us will result in a credit towards a future class or a refund.
URL:https://kickscrosslake.com/event/fishing-lures-for-fathers-day/
LOCATION:Kicks the Art Place\, 36066 County Road 66\, Crosslake\, MN\, 56442\, United States
CATEGORIES:Teens and Adult painting
ATTACH;FMTTYPE=image/jpeg:https://kickscrosslake.com/wp-content/uploads/fishing-lures-scaled.jpg
END:VEVENT
BEGIN:VEVENT
DTSTART;TZID=America/Chicago:20250607T173000
DTEND;TZID=America/Chicago:20250607T200000
DTSTAMP:20260422T184600
CREATED:20250512T025957Z
LAST-MODIFIED:20250512T025957Z
UID:1864-1749317400-1749326400@kickscrosslake.com
SUMMARY:The Camper
DESCRIPTION:A must-have painting for the camper or just for summer wall art! We start this painting with an outline provided on a black 11×14 canvas\, no drawing skills required! Follow along\, step by step\, and paint your own retro camper with glowing lights for that cozy\, nostalgic vibe. The glowing lights are easier than they look! Some variation with these 3 colors on the camper is an option for your camper-make it your own by switching it up. Acrylic paint  Ages 16+ please! \n$45 \nTicket Policy: \n*No refunds \n*Register in advance! Registration closes at 8PM the night before. Last minute registrants\, call to check on availability. \n*We reserve the right to require a registration minimum; classes are subject to change. \n*Any cancellation by us will result in a credit towards a future class or a refund.
URL:https://kickscrosslake.com/event/the-camper/
LOCATION:MN
CATEGORIES:Adult painting
ATTACH;FMTTYPE=image/jpeg:https://kickscrosslake.com/wp-content/uploads/F480E9C9-C037-4536-9236-6432A6CC617D-scaled.jpeg
END:VEVENT
END:VCALENDAR