BEGIN:VCALENDAR
VERSION:2.0
PRODID:-//Kicks the Art Place | Art Classes, Repurposed Furniture, Gifts and More | Crosslake Minnesota - ECPv6.15.18//NONSGML v1.0//EN
CALSCALE:GREGORIAN
METHOD:PUBLISH
X-WR-CALNAME:Kicks the Art Place | Art Classes, Repurposed Furniture, Gifts and More | Crosslake Minnesota
X-ORIGINAL-URL:https://kickscrosslake.com
X-WR-CALDESC:Events for Kicks the Art Place | Art Classes, Repurposed Furniture, Gifts and More | Crosslake Minnesota
REFRESH-INTERVAL;VALUE=DURATION:PT1H
X-Robots-Tag:noindex
X-PUBLISHED-TTL:PT1H
BEGIN:VTIMEZONE
TZID:America/Chicago
BEGIN:DAYLIGHT
TZOFFSETFROM:-0600
TZOFFSETTO:-0500
TZNAME:CDT
DTSTART:20240310T080000
END:DAYLIGHT
BEGIN:STANDARD
TZOFFSETFROM:-0500
TZOFFSETTO:-0600
TZNAME:CST
DTSTART:20241103T070000
END:STANDARD
BEGIN:DAYLIGHT
TZOFFSETFROM:-0600
TZOFFSETTO:-0500
TZNAME:CDT
DTSTART:20250309T080000
END:DAYLIGHT
BEGIN:STANDARD
TZOFFSETFROM:-0500
TZOFFSETTO:-0600
TZNAME:CST
DTSTART:20251102T070000
END:STANDARD
BEGIN:DAYLIGHT
TZOFFSETFROM:-0600
TZOFFSETTO:-0500
TZNAME:CDT
DTSTART:20260308T080000
END:DAYLIGHT
BEGIN:STANDARD
TZOFFSETFROM:-0500
TZOFFSETTO:-0600
TZNAME:CST
DTSTART:20261101T070000
END:STANDARD
BEGIN:DAYLIGHT
TZOFFSETFROM:-0600
TZOFFSETTO:-0500
TZNAME:CDT
DTSTART:20270314T080000
END:DAYLIGHT
BEGIN:STANDARD
TZOFFSETFROM:-0500
TZOFFSETTO:-0600
TZNAME:CST
DTSTART:20271107T070000
END:STANDARD
END:VTIMEZONE
BEGIN:VEVENT
DTSTART;TZID=America/Chicago:20260207T120000
DTEND;TZID=America/Chicago:20260207T150000
DTSTAMP:20260422T094550
CREATED:20251229T235730Z
LAST-MODIFIED:20251230T000937Z
UID:2151-1770465600-1770476400@kickscrosslake.com
SUMMARY:Make a Yeti: A Winterfest Kids' Make n' Take
DESCRIPTION:Need a moment to warm up during Winterfest? Bring your kids over to our studio\, (between The Yellow House and Goodwill)\, between 12 & 3pm for a fun and easy make n’ take Yeti! Our Yeti is holding a heart\, perhaps to give to his valentine.  Our art instructor\, Sara\, will be there to provide assistance and show the kids how to rub white chalk over crumpled paper for an interesting texture effect. Once they have created their furry texture\, children will tear their paper along guidelines to create the shapes of their yeti. Pairs of teeth and horns cut out of white paper give this guy his “monster vibe.”  But this monster is not vicious\, he has lots of love to give! Various valentine paper will be available to personalize their yeti’s heart\, along with some heart punches to add more love to their picture. Those who like to draw can use white\, pink\, purple and blue chalk to add a wintery background for their yeti to live in.  $5 per project. Kids under the age of 16 must be accompanied by an adult.  Availability is limited to space and materials. 12-3pm on Saturday the 7th. \nNo pre-registration required \nNo Reservations
URL:https://kickscrosslake.com/event/make-a-yeti-a-winterfest-kids-make-n-take/
LOCATION:Kicks the Art Place\, 36066 County Road 66\, Crosslake\, MN\, 56442\, United States
CATEGORIES:kids
ATTACH;FMTTYPE=image/jpeg:https://kickscrosslake.com/wp-content/uploads/make-a-yeti.jpeg
END:VEVENT
BEGIN:VEVENT
DTSTART;TZID=America/Chicago:20250620T173000
DTEND;TZID=America/Chicago:20250620T183000
DTSTAMP:20260422T094550
CREATED:20250514T232814Z
LAST-MODIFIED:20250602T164356Z
UID:1884-1750440600-1750444200@kickscrosslake.com
SUMMARY:Family Night Loon Painting
DESCRIPTION:It’s Loon Festival Weekend! Bring the family into Kicks on Friday night\, June 20th\, at 5:30 PM and paint with your kids! Our instructor will show you how to use acrylic paint in a watercolor style to create your own colorful loon on an 8×10 canvas board. We will help you transfer the image and outline with black first\, so no drawing skills needed! You don’t have to have kids to attend this class\, perhaps you are a kid at heart or you just like loons! Join us and kick off your weekend right– at Kicks! \nTo register for a family package\, please email: createandpaintwithsara@gmail.com to have a special ticket generated with your name on it. \nAges: 5+ to paint the loon. NOTE: Children MUST have an adult painting with them. (No dropping off your kids) Children 4 and under can “team up” with a parent or older sibling at no cost. \nAdults and Teens age 13+  $20        *Children age 5-12  $10 \nFamily packages: \n2 Adults/2 Children  $55 \n1 Adult/4 Children    $55 \n2 Adults/3 Children  $65 \n2 Adults/4 Children  $70 \n2 Adults/5 Children $75 \nTicket Policy: \n*No refunds \n*Register in advance! Registration closes at 5 PM the night before. Last minute registrants\, call to check on availability. \n*We reserve the right to require a registration minimum; classes are subject to change. \n*Any cancellation by us will result in a credit towards a future class or a refund. \n 
URL:https://kickscrosslake.com/event/family-night-loon-painting/
LOCATION:Kicks the Art Place\, 36066 County Road 66\, Crosslake\, MN\, 56442\, United States
CATEGORIES:Family Painting
ATTACH;FMTTYPE=image/jpeg:https://kickscrosslake.com/wp-content/uploads/Loon-Watercolor.jpg
END:VEVENT
END:VCALENDAR