BEGIN:VCALENDAR
VERSION:2.0
PRODID:-//Kicks the Art Place | Art Classes, Repurposed Furniture, Gifts and More | Crosslake Minnesota - ECPv6.15.18//NONSGML v1.0//EN
CALSCALE:GREGORIAN
METHOD:PUBLISH
X-WR-CALNAME:Kicks the Art Place | Art Classes, Repurposed Furniture, Gifts and More | Crosslake Minnesota
X-ORIGINAL-URL:https://kickscrosslake.com
X-WR-CALDESC:Events for Kicks the Art Place | Art Classes, Repurposed Furniture, Gifts and More | Crosslake Minnesota
REFRESH-INTERVAL;VALUE=DURATION:PT1H
X-Robots-Tag:noindex
X-PUBLISHED-TTL:PT1H
BEGIN:VTIMEZONE
TZID:America/Chicago
BEGIN:DAYLIGHT
TZOFFSETFROM:-0600
TZOFFSETTO:-0500
TZNAME:CDT
DTSTART:20240310T080000
END:DAYLIGHT
BEGIN:STANDARD
TZOFFSETFROM:-0500
TZOFFSETTO:-0600
TZNAME:CST
DTSTART:20241103T070000
END:STANDARD
BEGIN:DAYLIGHT
TZOFFSETFROM:-0600
TZOFFSETTO:-0500
TZNAME:CDT
DTSTART:20250309T080000
END:DAYLIGHT
BEGIN:STANDARD
TZOFFSETFROM:-0500
TZOFFSETTO:-0600
TZNAME:CST
DTSTART:20251102T070000
END:STANDARD
BEGIN:DAYLIGHT
TZOFFSETFROM:-0600
TZOFFSETTO:-0500
TZNAME:CDT
DTSTART:20260308T080000
END:DAYLIGHT
BEGIN:STANDARD
TZOFFSETFROM:-0500
TZOFFSETTO:-0600
TZNAME:CST
DTSTART:20261101T070000
END:STANDARD
BEGIN:DAYLIGHT
TZOFFSETFROM:-0600
TZOFFSETTO:-0500
TZNAME:CDT
DTSTART:20270314T080000
END:DAYLIGHT
BEGIN:STANDARD
TZOFFSETFROM:-0500
TZOFFSETTO:-0600
TZNAME:CST
DTSTART:20271107T070000
END:STANDARD
END:VTIMEZONE
BEGIN:VEVENT
DTSTART;TZID=America/Chicago:20260411T130000
DTEND;TZID=America/Chicago:20260411T170000
DTSTAMP:20260421T181442
CREATED:20260315T202953Z
LAST-MODIFIED:20260408T155357Z
UID:2253-1775912400-1775926800@kickscrosslake.com
SUMMARY:Watercolor Workshop: Beginner's Guide to Brushstrokes
DESCRIPTION:**Postponed! Sara has a grand baby on the way that may interrupt this class! This class will be rescheduled.  Exciting times! \nIn this watercolor workshop\, Sara will be teaching various brushstroke techniques most often used in loose watercolor painting.  This workshop has a required materials list-be sure to check that out at the bottom of this page!  We will be practicing our brushstrokes with Sara’s Highlander Cow in watercolor- as seen in a previous class- as well as a simple landscape.  This class is appropriate for beginners and anyone who wants to refine their skills. Be sure to bring your favorite beverages and treats!  Coffee\, tea and other hot beverages will be available.  This class is limited to 6 painters.  This is to ensure you get the most out of this workshop. Ages 16+ please! \n$60-see Ticket Policy Below. (Note earlier sign-up deadline) \nMeet your instructor:  Sara Porter \nSara is a local artist who grew up in the Brainerd Lakes Area. She has a Studio Art Degree from Northwestern University\, Roseville\, MN with an emphasis in oil painting. Currently\, besides teaching at Kicks since 2018\, she teaches elementary and high school art classes to home school co-op groups. Her class sizes have varied from 4 to 28 students\, K-12.  While she enjoys teaching\, she seeks time out to paint in the studio or outdoors. Sara struggles to isolate a single medium as a favorite. She finds enjoyment in the freedom to grab whatever medium suits her mood. This results in a variety of classes for Kicks!  In addition to teaching\,  Sara shows original works for sale on her gallery wall at Kicks and offers pet portraits in paint or dry media\, such as colored pencil and soft pastels. You can find her on Facebook and Instagram under ArtistSaraPorter. \nMaterials List: \nBefore you begin your search: Quality over Quantity is key. However\, the price range on paint brushes varies dramatically from a few dollars to nearly $100 or more.  It isn’t necessary to spend a fortune\, but you will experience the best results possible in this class with artist-quality materials. I (Sara) will be demonstrating in brushes made of synthetic sable or similar.  A brush in synthetic squirrel or Gold Taklon will behave differently. Try to find synthetic sable or a comparable version such as Princeton’s Velvetouch series.   I recommended tubes or pans in Winsor & Newton or a close alternative: Grumbacher Academy.  You can purchase the colors individually or in a set. Michaels has sales periodically.  The most important material you will bring is the PAPER.  The brand most widely used by artists and required by art schools is the Arches series. The minimum criteria: 100% cotton\, cold-pressed\, 140 pound\, and acid-free. \nHigh quality synthetic sable brushes such as Princeton’s Aqua Elite and Heritage lines are recommended for lower cost without sacrificing longevity and quality. Look for Princeton’s Velvetouch series or Winsor Newton & Cotman for a close\, budget-friendly alternative. \n\n2-3 Pointed Rounds such as this Princeton Aqua Elite in  #4 and #8 and  #12: (at least one larger and one smaller)  https://www.michaels.com/product/princeton-aqua-elite-synthetic-round-watercolor-brush-10553033 or Winsor Newton Cotman: https://www.michaels.com/product/winsor-newton-cotman-round-brush-10368012\nFlat brush such as Princeton Aqua Elite in 1/2″ or 3/4″: https://www.michaels.com/product/princeton-aqua-elite-synthetic-stroke-watercolor-brush-10553039 or the 1/2″ velvetouch version: https://www.michaels.com/product/princeton-velvetouch-series-3950-wash-brush-10658646\nScript Liner brush or small pointed round as this #1 Princeton Aqua Elite: https://www.michaels.com/product/princeton-aqua-elite-synthetic-liner-watercolor-brush-10553024   Or a small pointed round such as this #1 in velvetouch: https://www.michaels.com/product/princeton-velvetouch-series-3950-round-brush-10658641\n\nWatercolor Paint Tubes:  Winsor & Newton is a great brand. This is a great starter set\, however not all these colors are mandatory: https://www.michaels.com/product/winsor-newton-cotman-water-colours-10-color-paint-set-10636594?michaelsStore=5507&inv=3\   Try to bring at least these colors: Lemon Yellow\, Burnt Sienna\, Ultramarine Blue\, Cadmium Red Deep\, Permanent Rose (or Quinacridone Magenta or Rose) Hookers Green \nOPTIONAL:  Add- on colors not included in the above set:  Payne’s Grey\, Prussian Blue\, Alizarin Crimson\, Yellow Ochre\, Pthalo Blue \nPaper:  For the purposes of this class\, Strathmore’s 500 series is recommended over other student-grade paper. Their 400 series is available at Michaels\, but you don’t want to go lower in quality than that.  Regardless\, it’s a good idea to buy a large sheet of Arches paper (22″ x 30″) at Hobby Lobby for $8.99.  It can be torn into smaller sizes and you will see the difference in your results. Strathmore 500 series: https://www.michaels.com/product/strathmore-500-series-cold-press-ready-cut-watercolor-paper-D841196S?cm_mmc=PLASearch-_-google-_-18514200146-_-&gclid=EAIaIQobChMI5deshs-ikwMV4nF_AB31GCefEAQYAiABEgJOW_D_BwE&pla_channel=online&sku=D841196S&channel=online&local=&dev=c&gad_source=1&gad_campaignid=18508163256 \nTicket Policy: \n*No refunds \n*Sign up in advance! Ticket sales close at 8PM two nights before. Last minute inquiries\, call to check on availability. \n*Class minimum: 4 \n*In the event of not reaching the minimum\, class is subject to cancellation. \n*Cancellations by us will result in a credit towards a future class or a refund. \n 
URL:https://kickscrosslake.com/event/watercolor-workshop-beginners-guide-to-brushstrokes/
LOCATION:Kicks the Art Place\, 36066 County Road 66\, Crosslake\, MN\, 56442\, United States
CATEGORIES:Adult Workshop
ATTACH;FMTTYPE=image/jpeg:https://kickscrosslake.com/wp-content/uploads/Watercolor-Workshop.jpeg
END:VEVENT
BEGIN:VEVENT
DTSTART;TZID=America/Chicago:20260328T010000
DTEND;TZID=America/Chicago:20260328T170000
DTSTAMP:20260421T181442
CREATED:20260105T211206Z
LAST-MODIFIED:20260309T234457Z
UID:2189-1774659600-1774717200@kickscrosslake.com
SUMMARY:"Memories of Easters Past": Paint and Sip Workshop
DESCRIPTION:With Easter a week away and spring around the corner\, feel all the nostalgic feels with this vintage-inspired Easter project. Join us for an afternoon of creativity\, relaxation and inspiration!  Take a breather just for you as we dig through beautiful paper ephemera and sip a hot beverage. Enjoy a hot coffee\, cocoa or tea on us\, or bring your own favorite beverage/wine and treats. We will take a short break mid-project\, where you can walk over to the Yellow House for a specialty drink or ice cream. Ages 18+ please. *Note the earlier deadline below.* \nProject Description:   This project is made on a 12×12 canvas board using various paper ephemera and acrylic paint. A template of the chick silhouette is provided. Follow along\, step by step\, while choosing your own paper and colors to create the look you want. Painting products such as guilding wax will be introduced and materials such as raffia\, ribbon and vintage buttons will be available. Frame not included \n$80 \nTicket Policy: \n*No refunds \n*Sign up in advance! Ticket sales close at 8PM TWO NIGHTS before. Last minute inquiries\, call to check on availability. \n*Class minimum: 4 \n*In the event of not reaching the minimum\, class is subject to cancellation. \n*Cancellations by us will result in a credit towards a future class or a refund.
URL:https://kickscrosslake.com/event/memories-of-easters-past-a-paint-and-sip-project/
LOCATION:Kicks the Art Place\, 36066 County Road 66\, Crosslake\, MN\, 56442\, United States
CATEGORIES:Adult Workshop
ATTACH;FMTTYPE=image/jpeg:https://kickscrosslake.com/wp-content/uploads/IMG_0142-scaled.jpeg
END:VEVENT
BEGIN:VEVENT
DTSTART;TZID=America/Chicago:20260320T180000
DTEND;TZID=America/Chicago:20260320T203000
DTSTAMP:20260421T181442
CREATED:20260105T195812Z
LAST-MODIFIED:20260221T233829Z
UID:2183-1774029600-1774038600@kickscrosslake.com
SUMMARY:"Easter Bunny" Paint and Sip
DESCRIPTION:** UPDATE: This event has been changed from March 7\, to March 20 due to a private event**** \nHow about a nice “pause before the thaw.”  Winter is almost over! Take a moment to relax with us; treat yourself to an evening of creativity and fun. This inquisitive-looking fellow will get your mind thinking about warm spring days and Easter celebrations. A great option for teens and adults alike. \n$45 \nProject Description:  12×16 stretch canvas      acrylic paint        An outline of the bunny is prepared in advance. Follow along\, step by step. No experience necessary. Ages 13+ for this project \nTicket Policy: \n*No refunds \n*Sign up in advance! Ticket sales close at 8PM the night before. Last minute inquiries\, call to check on availability. \n*Class minimum: 4 \n*In the event of not reaching the minimum\, class is subject to cancellation. \n*Cancellations by us will result in a credit towards a future class or a refund.
URL:https://kickscrosslake.com/event/almost-spring-paint-and-sip/
LOCATION:Kicks the Art Place\, 36066 County Road 66\, Crosslake\, MN\, 56442\, United States
CATEGORIES:Adult painting,Family Painting,Teens and Adult painting
ATTACH;FMTTYPE=image/jpeg:https://kickscrosslake.com/wp-content/uploads/The-Easter-Bunny.jpeg
END:VEVENT
BEGIN:VEVENT
DTSTART;TZID=America/Chicago:20251219T170000
DTEND;TZID=America/Chicago:20251219T190000
DTSTAMP:20260421T181442
CREATED:20251213T220217Z
LAST-MODIFIED:20251213T223150Z
UID:2134-1766163600-1766170800@kickscrosslake.com
SUMMARY:Christmas Open House
DESCRIPTION:Come and visit our showroom and see our newly arranged paint studio.  Don’t miss the chance to enter drawings for 20-40% off select gift items and a drawing for a free class!  This is a great opportunity to see what’s new at Kicks and meet our instructors and staff. Feel free to browse our showroom and ask questions about our various art supplies and materials.  Friday night and Saturday 10-4 Free to the public.
URL:https://kickscrosslake.com/event/christmas-open-house/
LOCATION:Kicks the Art Place\, 36066 County Road 66\, Crosslake\, MN\, 56442\, United States
CATEGORIES:Open House
ATTACH;FMTTYPE=image/jpeg:https://kickscrosslake.com/wp-content/uploads/open-house.jpeg
END:VEVENT
BEGIN:VEVENT
DTSTART;TZID=America/Chicago:20251129T130000
DTEND;TZID=America/Chicago:20251129T150000
DTSTAMP:20260421T181442
CREATED:20251101T164807Z
LAST-MODIFIED:20251101T164807Z
UID:2092-1764421200-1764428400@kickscrosslake.com
SUMMARY:Holly Jolly Highlander
DESCRIPTION:It’s Thanksgiving weekend! Need an activity for your visitors? Here’s a great group activity for ages 13+. The Holly Jolly Highlander begins on a black canvas with simple lines drawn out in chalk to help guide you along with our instructor. Designed to be beginner friendly at our lowest price\, this painting is a great way to “Kick” in the holiday season at Kicks! Acrylic paint on a 12×16 stretch canvas. \n$40 \nTicket Policy: \n*No refunds \n*Register in advance! Registration closes at 8PM the night before. Last minute registrants\, call to check on availability. \n*We reserve the right to require a registration minimum; classes are subject to change. \n*Any cancellation by us will result in a credit towards a future class or a refund.
URL:https://kickscrosslake.com/event/holly-jolly-highlander-2/
LOCATION:Kicks the Art Place\, 36066 County Road 66\, Crosslake\, MN\, 56442\, United States
CATEGORIES:Teens and Adult painting
ATTACH;FMTTYPE=image/jpeg:https://kickscrosslake.com/wp-content/uploads/IMG_4612-scaled.jpeg
END:VEVENT
BEGIN:VEVENT
DTSTART;TZID=America/Chicago:20250920T130000
DTEND;TZID=America/Chicago:20250920T170000
DTSTAMP:20260421T181442
CREATED:20250812T024150Z
LAST-MODIFIED:20250818T011618Z
UID:2033-1758373200-1758387600@kickscrosslake.com
SUMMARY:Fall Signboard Workshop
DESCRIPTION:The fall sign board is back for another workshop! You can come paint this on a new signboard\, or bring back your spring\, summer\, or winter signboards and paint the other side for a $10 discount. This signboard doesn’t require any prep-work; we begin on the raw\, unfinished wood. Our signboard workshops are 4 hours\, as we like to take our time\, and take a break in the middle as needed. Bring your favorite snacks & beverages\, or enjoy a coffee or tea we have available. This is a beautiful sign to put on your front step September-November! We believe the “Welcome” for our signboards are understood by the viewer as they approach your front door. With art like this\, how could they not feel welcomed? There’s no need for drawing skills to paint this design\, we provide graphite transfer paper to transfer your image. These workshops are for adults 18+ please! Come and join us for our final design to complete our 4-season collection- the fall sign board Red-Winged Blackbird! Register in ADVANCE\, seating is limited for signboard workshops.\n$89\nTicket Policy:\n*No refunds\n*Register in advance! Registration closes at 8PM the night before. Last minute registrants\, call to check on availability.\n*We reserve the right to require a registration minimum; classes are subject to change.\n*Any cancellation by us will result in a credit towards a future class or a refund.
URL:https://kickscrosslake.com/event/fall-signboard-workshop/
LOCATION:Kicks the Art Place\, 36066 County Road 66\, Crosslake\, MN\, 56442\, United States
CATEGORIES:Adult Workshop
ATTACH;FMTTYPE=image/jpeg:https://kickscrosslake.com/wp-content/uploads/Fall-Signboard-Workshop.jpeg
END:VEVENT
END:VCALENDAR