BEGIN:VCALENDAR
VERSION:2.0
PRODID:-//Kicks the Art Place | Art Classes, Repurposed Furniture, Gifts and More | Crosslake Minnesota - ECPv6.15.18//NONSGML v1.0//EN
CALSCALE:GREGORIAN
METHOD:PUBLISH
X-WR-CALNAME:Kicks the Art Place | Art Classes, Repurposed Furniture, Gifts and More | Crosslake Minnesota
X-ORIGINAL-URL:https://kickscrosslake.com
X-WR-CALDESC:Events for Kicks the Art Place | Art Classes, Repurposed Furniture, Gifts and More | Crosslake Minnesota
REFRESH-INTERVAL;VALUE=DURATION:PT1H
X-Robots-Tag:noindex
X-PUBLISHED-TTL:PT1H
BEGIN:VTIMEZONE
TZID:America/Chicago
BEGIN:DAYLIGHT
TZOFFSETFROM:-0600
TZOFFSETTO:-0500
TZNAME:CDT
DTSTART:20240310T080000
END:DAYLIGHT
BEGIN:STANDARD
TZOFFSETFROM:-0500
TZOFFSETTO:-0600
TZNAME:CST
DTSTART:20241103T070000
END:STANDARD
BEGIN:DAYLIGHT
TZOFFSETFROM:-0600
TZOFFSETTO:-0500
TZNAME:CDT
DTSTART:20250309T080000
END:DAYLIGHT
BEGIN:STANDARD
TZOFFSETFROM:-0500
TZOFFSETTO:-0600
TZNAME:CST
DTSTART:20251102T070000
END:STANDARD
BEGIN:DAYLIGHT
TZOFFSETFROM:-0600
TZOFFSETTO:-0500
TZNAME:CDT
DTSTART:20260308T080000
END:DAYLIGHT
BEGIN:STANDARD
TZOFFSETFROM:-0500
TZOFFSETTO:-0600
TZNAME:CST
DTSTART:20261101T070000
END:STANDARD
BEGIN:DAYLIGHT
TZOFFSETFROM:-0600
TZOFFSETTO:-0500
TZNAME:CDT
DTSTART:20270314T080000
END:DAYLIGHT
BEGIN:STANDARD
TZOFFSETFROM:-0500
TZOFFSETTO:-0600
TZNAME:CST
DTSTART:20271107T070000
END:STANDARD
END:VTIMEZONE
BEGIN:VEVENT
DTSTART;TZID=America/Chicago:20260411T130000
DTEND;TZID=America/Chicago:20260411T170000
DTSTAMP:20260425T132303
CREATED:20260315T202953Z
LAST-MODIFIED:20260408T155357Z
UID:2253-1775912400-1775926800@kickscrosslake.com
SUMMARY:Watercolor Workshop: Beginner's Guide to Brushstrokes
DESCRIPTION:**Postponed! Sara has a grand baby on the way that may interrupt this class! This class will be rescheduled.  Exciting times! \nIn this watercolor workshop\, Sara will be teaching various brushstroke techniques most often used in loose watercolor painting.  This workshop has a required materials list-be sure to check that out at the bottom of this page!  We will be practicing our brushstrokes with Sara’s Highlander Cow in watercolor- as seen in a previous class- as well as a simple landscape.  This class is appropriate for beginners and anyone who wants to refine their skills. Be sure to bring your favorite beverages and treats!  Coffee\, tea and other hot beverages will be available.  This class is limited to 6 painters.  This is to ensure you get the most out of this workshop. Ages 16+ please! \n$60-see Ticket Policy Below. (Note earlier sign-up deadline) \nMeet your instructor:  Sara Porter \nSara is a local artist who grew up in the Brainerd Lakes Area. She has a Studio Art Degree from Northwestern University\, Roseville\, MN with an emphasis in oil painting. Currently\, besides teaching at Kicks since 2018\, she teaches elementary and high school art classes to home school co-op groups. Her class sizes have varied from 4 to 28 students\, K-12.  While she enjoys teaching\, she seeks time out to paint in the studio or outdoors. Sara struggles to isolate a single medium as a favorite. She finds enjoyment in the freedom to grab whatever medium suits her mood. This results in a variety of classes for Kicks!  In addition to teaching\,  Sara shows original works for sale on her gallery wall at Kicks and offers pet portraits in paint or dry media\, such as colored pencil and soft pastels. You can find her on Facebook and Instagram under ArtistSaraPorter. \nMaterials List: \nBefore you begin your search: Quality over Quantity is key. However\, the price range on paint brushes varies dramatically from a few dollars to nearly $100 or more.  It isn’t necessary to spend a fortune\, but you will experience the best results possible in this class with artist-quality materials. I (Sara) will be demonstrating in brushes made of synthetic sable or similar.  A brush in synthetic squirrel or Gold Taklon will behave differently. Try to find synthetic sable or a comparable version such as Princeton’s Velvetouch series.   I recommended tubes or pans in Winsor & Newton or a close alternative: Grumbacher Academy.  You can purchase the colors individually or in a set. Michaels has sales periodically.  The most important material you will bring is the PAPER.  The brand most widely used by artists and required by art schools is the Arches series. The minimum criteria: 100% cotton\, cold-pressed\, 140 pound\, and acid-free. \nHigh quality synthetic sable brushes such as Princeton’s Aqua Elite and Heritage lines are recommended for lower cost without sacrificing longevity and quality. Look for Princeton’s Velvetouch series or Winsor Newton & Cotman for a close\, budget-friendly alternative. \n\n2-3 Pointed Rounds such as this Princeton Aqua Elite in  #4 and #8 and  #12: (at least one larger and one smaller)  https://www.michaels.com/product/princeton-aqua-elite-synthetic-round-watercolor-brush-10553033 or Winsor Newton Cotman: https://www.michaels.com/product/winsor-newton-cotman-round-brush-10368012\nFlat brush such as Princeton Aqua Elite in 1/2″ or 3/4″: https://www.michaels.com/product/princeton-aqua-elite-synthetic-stroke-watercolor-brush-10553039 or the 1/2″ velvetouch version: https://www.michaels.com/product/princeton-velvetouch-series-3950-wash-brush-10658646\nScript Liner brush or small pointed round as this #1 Princeton Aqua Elite: https://www.michaels.com/product/princeton-aqua-elite-synthetic-liner-watercolor-brush-10553024   Or a small pointed round such as this #1 in velvetouch: https://www.michaels.com/product/princeton-velvetouch-series-3950-round-brush-10658641\n\nWatercolor Paint Tubes:  Winsor & Newton is a great brand. This is a great starter set\, however not all these colors are mandatory: https://www.michaels.com/product/winsor-newton-cotman-water-colours-10-color-paint-set-10636594?michaelsStore=5507&inv=3\   Try to bring at least these colors: Lemon Yellow\, Burnt Sienna\, Ultramarine Blue\, Cadmium Red Deep\, Permanent Rose (or Quinacridone Magenta or Rose) Hookers Green \nOPTIONAL:  Add- on colors not included in the above set:  Payne’s Grey\, Prussian Blue\, Alizarin Crimson\, Yellow Ochre\, Pthalo Blue \nPaper:  For the purposes of this class\, Strathmore’s 500 series is recommended over other student-grade paper. Their 400 series is available at Michaels\, but you don’t want to go lower in quality than that.  Regardless\, it’s a good idea to buy a large sheet of Arches paper (22″ x 30″) at Hobby Lobby for $8.99.  It can be torn into smaller sizes and you will see the difference in your results. Strathmore 500 series: https://www.michaels.com/product/strathmore-500-series-cold-press-ready-cut-watercolor-paper-D841196S?cm_mmc=PLASearch-_-google-_-18514200146-_-&gclid=EAIaIQobChMI5deshs-ikwMV4nF_AB31GCefEAQYAiABEgJOW_D_BwE&pla_channel=online&sku=D841196S&channel=online&local=&dev=c&gad_source=1&gad_campaignid=18508163256 \nTicket Policy: \n*No refunds \n*Sign up in advance! Ticket sales close at 8PM two nights before. Last minute inquiries\, call to check on availability. \n*Class minimum: 4 \n*In the event of not reaching the minimum\, class is subject to cancellation. \n*Cancellations by us will result in a credit towards a future class or a refund. \n 
URL:https://kickscrosslake.com/event/watercolor-workshop-beginners-guide-to-brushstrokes/
LOCATION:Kicks the Art Place\, 36066 County Road 66\, Crosslake\, MN\, 56442\, United States
CATEGORIES:Adult Workshop
ATTACH;FMTTYPE=image/jpeg:https://kickscrosslake.com/wp-content/uploads/Watercolor-Workshop.jpeg
END:VEVENT
BEGIN:VEVENT
DTSTART;TZID=America/Chicago:20251220T130000
DTEND;TZID=America/Chicago:20251220T153000
DTSTAMP:20260425T132303
CREATED:20251118T155941Z
LAST-MODIFIED:20251118T172748Z
UID:2100-1766235600-1766244600@kickscrosslake.com
SUMMARY:Chapel in the Woods
DESCRIPTION:Inspired by a little white chapel from Sara’s childhood\, this painting is sure to bring up some cozy\, nostalgic vibes! An outline of the chapel and windows is prepared ahead of time\, so drawing skills are not required. This is a paint and sip style event. We provide coffee\, tea\, cocoa and cider\, or bring your own beverage and snacks. Sara implements techniques with sponges and spattering to help you achieve this snowy scene. We even paint with our fingers to get the desired effects of a glowing light in the windows. All levels of painters are welcome.  Regardless your skill level or previous experiences with painting\, our goal is to foster a unique art experience for you in our studio\, whether there’s 4 painters present or 24.  Ages 16+ is recommended for this painting. \nAcrylic   12×16 stretch canvas  $45 \nTicket Policy: \n*No refunds \n*Register in advance! Registration closes at 8PM the night before. Last minute registrants\, call to check on availability. \n*We reserve the right to require a registration minimum; classes are subject to change. \n*Any cancellation by us will result in a credit towards a future class or a refund.
URL:https://kickscrosslake.com/event/chapel-in-the-woods-2/
LOCATION:Kicks the Art Place\, 36066 County Road 66\, Crosslake\, MN\, 56442\, United States
CATEGORIES:Adult painting
ATTACH;FMTTYPE=image/jpeg:https://kickscrosslake.com/wp-content/uploads/IMG_0583-scaled.jpeg
END:VEVENT
BEGIN:VEVENT
DTSTART;TZID=America/Chicago:20250906T130000
DTEND;TZID=America/Chicago:20250906T170000
DTSTAMP:20260425T132303
CREATED:20250812T021654Z
LAST-MODIFIED:20250826T002759Z
UID:2028-1757163600-1757178000@kickscrosslake.com
SUMMARY:The Apple Stand: Intermediate Workshop
DESCRIPTION:The Apple Stand is an intermediate level painting inspired by the many apple orchards in Minnesota we all love. With this being a longer workshop\, we will take a short break halfway through. There will be an outline on the canvas\, so not to worry about drawing skills!   We couldn’t possibly paint this without some cider to sip\, so help yourself to our cider\, hot cocoa\, or coffee\, etc. We welcome our painters to sip and snack while they paint! These classes are step-by-step\, following along with our instructor.    Acrylic paint on an 11×14 canvas      Ages 18+ please! \n$60 \nTicket Policy: \n*No refunds \n*Register in advance! Registration closes at 8PM the night before. Last minute registrants\, call to check on availability. \n*We reserve the right to require a registration minimum; classes are subject to change. \n*Any cancellation by us will result in a credit towards a future class or a refund.
URL:https://kickscrosslake.com/event/the-apple-stand/
LOCATION:Kicks the Art Place\, 36066 County Road 66\, Crosslake\, MN\, 56442\, United States
CATEGORIES:Adult painting
ATTACH;FMTTYPE=image/jpeg:https://kickscrosslake.com/wp-content/uploads/IMG_4584-scaled.jpeg
END:VEVENT
BEGIN:VEVENT
DTSTART;TZID=America/Chicago:20250802T150000
DTEND;TZID=America/Chicago:20250802T180000
DTSTAMP:20260425T132303
CREATED:20250619T192145Z
LAST-MODIFIED:20250619T192145Z
UID:1960-1754146800-1754157600@kickscrosslake.com
SUMMARY:Loose Watercolor Painting Workshop
DESCRIPTION:Ever wondered how to paint loosely with watercolor for that “effortless” look? Try the tricks of the trade with local artist\, Sara Porter\, as your instructor. With demonstrations and one-on-one assistance\, this is a hands-on experience that will open up your painting to a whole new world! This is a 3 hour workshop with a focus on learning rather than our regular paint-along classes. All supplies are provided\, but you may bring any of your own favorite watercolor paints\, brushes or paper.   We will be practicing on Strathmore 400 Series cold press 140 lb paper.  This workshop is designed for adults and teens ages 16+\, of beginner level.  If you’ve dabbled with watercolor and struggle to “let go” of tight detail control\, or have always wanted to try watercolor–this is the class for you!  Techniques and subjects covered may include\, but not limited to\, the images shown.  Learn how to start a painting when you have painters block\, and practice “seeing” in shapes and patterns to develop your subject.  Learn how to let watercolor do what it does best.  Bring your favorite beverages and treats\, but as always\, enjoy a coffee or tea on us. Seating is limited to 8 to ensure ease of visibility and maximize the one-on-one time per person.  Don’t wait to register! \n$50 \nTicket Policy: \n*No refunds \n*Register in advance! Registration closes at 8PM the night before. Last minute registrants\, call to check on availability. \n*We reserve the right to require a registration minimum; classes are subject to change. \n*Any cancellation by us will result in a credit towards a future class or a refund.
URL:https://kickscrosslake.com/event/loose-watercolor-painting-workshop/
LOCATION:MN
CATEGORIES:Adult Workshop
ATTACH;FMTTYPE=image/jpeg:https://kickscrosslake.com/wp-content/uploads/loose-watercolor-poster.jpeg
END:VEVENT
BEGIN:VEVENT
DTSTART;TZID=America/Chicago:20250614T180000
DTEND;TZID=America/Chicago:20250614T203000
DTSTAMP:20260425T132303
CREATED:20250514T001202Z
LAST-MODIFIED:20250514T001507Z
UID:1872-1749924000-1749933000@kickscrosslake.com
SUMMARY:Blue Dasher: The Beginner Version
DESCRIPTION:The Blue Dasher dragonfly has been simplified for beginners! We provide an outline of the dragonfly\, so no drawing skills are needed. Step by step\, you can paint a beautiful dragonfly in acrylic paint on a 12×16 canvas. 16+ please! \n$45 \nTicket Policy: \n*No refunds \n*Register in advance! Registration closes at 8PM the night before. Last minute registrants\, call to check on availability. \n*We reserve the right to require a registration minimum; classes are subject to change. \n*Any cancellation by us will result in a credit towards a future class or a refund.
URL:https://kickscrosslake.com/event/blue-dasher-the-beginner-version/
LOCATION:Kicks the Art Place\, 36066 County Road 66\, Crosslake\, MN\, 56442\, United States
CATEGORIES:Adult painting
ATTACH;FMTTYPE=image/jpeg:https://kickscrosslake.com/wp-content/uploads/Blue-Dasher-beginner-2-scaled.jpg
END:VEVENT
BEGIN:VEVENT
DTSTART;TZID=America/Chicago:20250509T180000
DTEND;TZID=America/Chicago:20250509T200000
DTSTAMP:20260425T132303
CREATED:20250304T050353Z
LAST-MODIFIED:20250325T174647Z
UID:1811-1746813600-1746820800@kickscrosslake.com
SUMMARY:How to Paint Trees: May 2nd & May 9th Workshop
DESCRIPTION:Like to attend paint along classes but always struggle with the trees? In this two-day workshop\, learn the basics of painting trees in acrylic paint with Sara Porter. Day One: We will cover the various paint brushes and the effects used to paint different types of trees commonly done in paint along classes. This is a two hour\, hands-on learning class with demonstrations and personalized guidance for beginners-intermediate.  Day Two: Using the skills acquired in the first class\, we will paint a landscape of various trees. Final painting design will be based on the class attendees–designed with YOU in mind.  Walk away from this class with increased confidence in all your future paint-along events! \nAll materials are included in the price. This ticket automatically registers you for both classes. Fridays\, May 2nd and 9th\, 6-8pm. $80 \n\nTicket Policy: \n*This ticket CANNOT BE SPLIT. However\, attending both classes is not mandatory. \n*Registration and payment in advance is required for this class. \n*No refunds for missed class. \n*Registration deadline: Wednesday\, April 30\, 8 PM. \n 
URL:https://kickscrosslake.com/event/how-to-paint-trees-may-2nd-may-9th-workshop/2025-05-09/
LOCATION:Kicks the Art Place\, 36066 County Road 66\, Crosslake\, MN\, 56442\, United States
CATEGORIES:Adult Workshop
ATTACH;FMTTYPE=image/png:https://kickscrosslake.com/wp-content/uploads/Friday-Nights-May-2-9-Kicks-the-Art-Place-1.png
END:VEVENT
BEGIN:VEVENT
DTSTART;TZID=America/Chicago:20250502T180000
DTEND;TZID=America/Chicago:20250502T200000
DTSTAMP:20260425T132303
CREATED:20250304T050353Z
LAST-MODIFIED:20250325T174644Z
UID:1808-1746208800-1746216000@kickscrosslake.com
SUMMARY:How to Paint Trees: May 2nd & May 9th Workshop
DESCRIPTION:Like to attend paint along classes but always struggle with the trees? In this two-day workshop\, learn the basics of painting trees in acrylic paint with Sara Porter. Day One: We will cover the various paint brushes and the effects used to paint different types of trees commonly done in paint along classes. This is a two hour\, hands-on learning class with demonstrations and personalized guidance for beginners-intermediate.  Day Two: Using the skills acquired in the first class\, we will paint a landscape of various trees. Final painting design will be based on the class attendees–designed with YOU in mind.  Walk away from this class with increased confidence in all your future paint-along events! \nAll materials are included in the price. This ticket automatically registers you for both classes. Fridays\, May 2nd and 9th\, 6-8pm. $80 \n\nTicket Policy: \n*This ticket CANNOT BE SPLIT. However\, attending both classes is not mandatory. \n*Registration and payment in advance is required for this class. \n*No refunds for missed class. \n*Registration deadline: Wednesday\, April 30\, 8 PM. \n 
URL:https://kickscrosslake.com/event/how-to-paint-trees-may-2nd-may-9th-workshop/2025-05-02/
LOCATION:Kicks the Art Place\, 36066 County Road 66\, Crosslake\, MN\, 56442\, United States
CATEGORIES:Adult Workshop
ATTACH;FMTTYPE=image/png:https://kickscrosslake.com/wp-content/uploads/Friday-Nights-May-2-9-Kicks-the-Art-Place-1.png
END:VEVENT
END:VCALENDAR