BEGIN:VCALENDAR
VERSION:2.0
PRODID:-//Kicks the Art Place | Art Classes, Repurposed Furniture, Gifts and More | Crosslake Minnesota - ECPv6.15.18//NONSGML v1.0//EN
CALSCALE:GREGORIAN
METHOD:PUBLISH
X-WR-CALNAME:Kicks the Art Place | Art Classes, Repurposed Furniture, Gifts and More | Crosslake Minnesota
X-ORIGINAL-URL:https://kickscrosslake.com
X-WR-CALDESC:Events for Kicks the Art Place | Art Classes, Repurposed Furniture, Gifts and More | Crosslake Minnesota
REFRESH-INTERVAL;VALUE=DURATION:PT1H
X-Robots-Tag:noindex
X-PUBLISHED-TTL:PT1H
BEGIN:VTIMEZONE
TZID:America/Chicago
BEGIN:DAYLIGHT
TZOFFSETFROM:-0600
TZOFFSETTO:-0500
TZNAME:CDT
DTSTART:20240310T080000
END:DAYLIGHT
BEGIN:STANDARD
TZOFFSETFROM:-0500
TZOFFSETTO:-0600
TZNAME:CST
DTSTART:20241103T070000
END:STANDARD
BEGIN:DAYLIGHT
TZOFFSETFROM:-0600
TZOFFSETTO:-0500
TZNAME:CDT
DTSTART:20250309T080000
END:DAYLIGHT
BEGIN:STANDARD
TZOFFSETFROM:-0500
TZOFFSETTO:-0600
TZNAME:CST
DTSTART:20251102T070000
END:STANDARD
BEGIN:DAYLIGHT
TZOFFSETFROM:-0600
TZOFFSETTO:-0500
TZNAME:CDT
DTSTART:20260308T080000
END:DAYLIGHT
BEGIN:STANDARD
TZOFFSETFROM:-0500
TZOFFSETTO:-0600
TZNAME:CST
DTSTART:20261101T070000
END:STANDARD
END:VTIMEZONE
BEGIN:VEVENT
DTSTART;TZID=America/Chicago:20251206T130000
DTEND;TZID=America/Chicago:20251206T153000
DTSTAMP:20260425T132312
CREATED:20251118T144345Z
LAST-MODIFIED:20251118T172900Z
UID:2095-1765026000-1765035000@kickscrosslake.com
SUMMARY:Snowy Christmas Tree
DESCRIPTION:“Kick” in the Holiday Season with us at Kicks! Our first Saturday class in November is  “Snowy Christmas Tree”\, glowing in the darkness of a snowy December night. These are “paint and sip” style classes– we provide coffee\, cocoa\, tea and cider\, or bring your own favorite beverage and snacks! A great option for a team-building work party\, family gathering\, girls night out\, date night\, or for your own personal enjoyment. We’ll help you create the look with sponges\, brushes\, spatter painting and even finger painting! Our goal is for you to have fun\, relax\, laugh\, and leave with a painting you never thought you could do yourself.  Ages 16+ for this class please! \n$45 \nTicket Policy: \n*No refunds \n*Register in advance! Registration closes at 8PM the night before. Last minute registrants\, call to check on availability. \n*We reserve the right to require a registration minimum; classes are subject to change. \n*Any cancellation by us will result in a credit towards a future class or a refund.
URL:https://kickscrosslake.com/event/snowy-christmas-tree/
LOCATION:Kicks the Art Place\, 36066 County Road 66\, Crosslake\, MN\, 56442\, United States
CATEGORIES:Adult painting
ATTACH;FMTTYPE=image/jpeg:https://kickscrosslake.com/wp-content/uploads/snowy-christmas-tree-scaled.jpg
END:VEVENT
BEGIN:VEVENT
DTSTART;TZID=America/Chicago:20251115T130000
DTEND;TZID=America/Chicago:20251115T160000
DTSTAMP:20260425T132312
CREATED:20250913T182848Z
LAST-MODIFIED:20250913T182848Z
UID:2086-1763211600-1763222400@kickscrosslake.com
SUMMARY:Christmas Wreath
DESCRIPTION:Enjoy beautiful tints and shades of green while painting a Christmas Wreath for your walls this year. Our instructor\, Sara\, implements tools such as sponges and dobbers to help create the desired affect. We use templates for adding shapes\, such as this bow.  Follow along\, step by step\, and most of all: TRUST THE PROCESS!  We welcome painters of all experience levels\, even those who’ve never painted at all. This is a great subject for a work or family party. Kick in the holiday season with us at Kicks!  We estimate 2 1/2- 3 hours for this class. As always\, bring your own beverage/treats\, or enjoy a hot beverage on us while you paint. Acrylic paint on a square 12×12 canvas. Ages 16+ encouraged \n$45 \n\nTicket Policy: \n*No refunds \n*Register in advance! Registration closes at 8PM the night before. Last minute registrants\, call to check on availability. \n*We reserve the right to require a registration minimum; classes are subject to change. \n*Any cancellation by us will result in a credit towards a future class or a refund.
URL:https://kickscrosslake.com/event/christmas-wreath/
LOCATION:Kicks the Art Place\, 36066 County Road 66\, Crosslake\, MN\, 56442\, United States
ATTACH;FMTTYPE=image/jpeg:https://kickscrosslake.com/wp-content/uploads/IMG_0608-scaled.jpeg
END:VEVENT
BEGIN:VEVENT
DTSTART;TZID=America/Chicago:20251108T130000
DTEND;TZID=America/Chicago:20251108T153000
DTSTAMP:20260425T132312
CREATED:20250913T181204Z
LAST-MODIFIED:20250913T181204Z
UID:2084-1762606800-1762615800@kickscrosslake.com
SUMMARY:Watercolor Ornaments
DESCRIPTION:Here’s a fun way to try out watercolor paint! Four ornaments\, with the Christmas message of your choosing.  Watercolor is unique\, in that the water can do most of the work. Templates are ALWAYS used for circles… I mean… who can draw a perfect circle? Not this artist! The script writing on the ornaments can be transferred with transfer paper and then drawn over with metallic marker\, or free-hand it–it’s your choice!  Our instructor\, Sara\, will help you every step of the way. While this is not a difficult class\, we allow for 2 1/2 hours to ensure we have enough time and don’t feel rushed.  (It’s always good to have a little practice painting before we begin our project)  So come on over and fall in love with watercolor painting! We always have a good time in our studio!   Bring a beverage and snack or enjoy a hot beverage on us. Ages 16+ please! \n9×12 watercolor paper  (all materials provided)  $50 \nTicket Policy: \n*No refunds \n*Register in advance! Registration closes at 8PM the night before. Last minute registrants\, call to check on availability. \n*We reserve the right to require a registration minimum; classes are subject to change. \n*Any cancellation by us will result in a credit towards a future class or a refund.
URL:https://kickscrosslake.com/event/watercolor-ornaments-2/
LOCATION:Kicks the Art Place\, 36066 County Road 66\, Crosslake\, MN\, 56442\, United States
CATEGORIES:Adult painting
ATTACH;FMTTYPE=image/jpeg:https://kickscrosslake.com/wp-content/uploads/Watercolor-Ornaments-with-words.jpg
END:VEVENT
BEGIN:VEVENT
DTSTART;TZID=America/Chicago:20251025T130000
DTEND;TZID=America/Chicago:20251025T150000
DTSTAMP:20260425T132312
CREATED:20250826T010528Z
LAST-MODIFIED:20250913T173804Z
UID:2064-1761397200-1761404400@kickscrosslake.com
SUMMARY:Holly Jolly Highlander
DESCRIPTION:Try a minimalistic approach to painting a Highlander cow with whimsical brush strokes against a black canvas. We start with a chalk outline and paint the whole look with only one paint brush. This painting is also a great option for a private painting party for Christmas! Contact us to schedule!\nThis class is for ages 16+ please!\n$45 \nTicket Policy: \n*No refunds \n*Register in advance! Registration closes at 8PM the night before. Last minute registrants\, call to check on availability. \n*We reserve the right to require a registration minimum; classes are subject to change. \n*Any cancellation by us will result in a credit towards a future class or a refund.
URL:https://kickscrosslake.com/event/holly-jolly-highlander/
LOCATION:Kicks the Art Place\, 36066 County Road 66\, Crosslake\, MN\, 56442\, United States
CATEGORIES:Adult painting
ATTACH;FMTTYPE=image/jpeg:https://kickscrosslake.com/wp-content/uploads/IMG_4612-scaled.jpeg
END:VEVENT
BEGIN:VEVENT
DTSTART;TZID=America/Chicago:20250617T173000
DTEND;TZID=America/Chicago:20250617T203000
DTSTAMP:20260425T132312
CREATED:20250516T215556Z
LAST-MODIFIED:20250516T215556Z
UID:1893-1750181400-1750192200@kickscrosslake.com
SUMMARY:Patriotic Giraffe
DESCRIPTION:Get ready for July 4th with this fun giraffe to hang on your walls! She’s smart\, she’s festive\, she’s wearing Linda’s glasses\, and she’s ready for fireworks!  With paint splattered spots\, every giraffe will be unique. We transfer the outline and use a template for the glasses. (I actually laid down my own glasses and traced them) It’s not as hard as it looks! Lots of freedom with this painting-make it your own!  Painting the glasses can feel tricky\, acrylic paint markers are the solution! So not to worry\, we’ve got your back. Come and join Sara after work for some painting fun! Feel free to bring in your own food and snacks and eat while you paint. We have coffee\, tea\, and cocoa. Ages 16+ please! \n$45 \nTicket Policy: \n*No refunds \n*Register in advance! Registration closes at 8PM the night before. Last minute registrants\, call to check on availability. \n*We reserve the right to require a registration minimum; classes are subject to change. \n*Any cancellation by us will result in a credit towards a future class or a refund.
URL:https://kickscrosslake.com/event/patriotic-giraffe/
LOCATION:Kicks the Art Place\, 36066 County Road 66\, Crosslake\, MN\, 56442\, United States
CATEGORIES:Adult painting
ATTACH;FMTTYPE=image/jpeg:https://kickscrosslake.com/wp-content/uploads/patriotic-giraffe-scaled.jpg
END:VEVENT
END:VCALENDAR