BEGIN:VCALENDAR
VERSION:2.0
PRODID:-//Kicks the Art Place | Art Classes, Repurposed Furniture, Gifts and More | Crosslake Minnesota - ECPv6.15.18//NONSGML v1.0//EN
CALSCALE:GREGORIAN
METHOD:PUBLISH
X-WR-CALNAME:Kicks the Art Place | Art Classes, Repurposed Furniture, Gifts and More | Crosslake Minnesota
X-ORIGINAL-URL:https://kickscrosslake.com
X-WR-CALDESC:Events for Kicks the Art Place | Art Classes, Repurposed Furniture, Gifts and More | Crosslake Minnesota
REFRESH-INTERVAL;VALUE=DURATION:PT1H
X-Robots-Tag:noindex
X-PUBLISHED-TTL:PT1H
BEGIN:VTIMEZONE
TZID:America/Chicago
BEGIN:DAYLIGHT
TZOFFSETFROM:-0600
TZOFFSETTO:-0500
TZNAME:CDT
DTSTART:20240310T080000
END:DAYLIGHT
BEGIN:STANDARD
TZOFFSETFROM:-0500
TZOFFSETTO:-0600
TZNAME:CST
DTSTART:20241103T070000
END:STANDARD
BEGIN:DAYLIGHT
TZOFFSETFROM:-0600
TZOFFSETTO:-0500
TZNAME:CDT
DTSTART:20250309T080000
END:DAYLIGHT
BEGIN:STANDARD
TZOFFSETFROM:-0500
TZOFFSETTO:-0600
TZNAME:CST
DTSTART:20251102T070000
END:STANDARD
BEGIN:DAYLIGHT
TZOFFSETFROM:-0600
TZOFFSETTO:-0500
TZNAME:CDT
DTSTART:20260308T080000
END:DAYLIGHT
BEGIN:STANDARD
TZOFFSETFROM:-0500
TZOFFSETTO:-0600
TZNAME:CST
DTSTART:20261101T070000
END:STANDARD
END:VTIMEZONE
BEGIN:VEVENT
DTSTART;TZID=America/Chicago:20250816T180000
DTEND;TZID=America/Chicago:20250816T200000
DTSTAMP:20260423T080406
CREATED:20250716T211854Z
LAST-MODIFIED:20250716T211854Z
UID:1994-1755367200-1755374400@kickscrosslake.com
SUMMARY:Fall Reflections
DESCRIPTION:Fall is around the corner\, whether we like to think about it or not. Why not focus on the beauty to come! Soft\, autumn colors reflect over still waters in this 12×16 painting in acrylic paint. When those colors start to change\, you’ll be ready with your new painting to display. Bring your favorite snacks & beverages or enjoy a coffee or tea on us. \n$40 \nTicket Policy: \n*No refunds \n*Register in advance! Registration closes at 8PM the night before. Last minute registrants\, call to check on availability. \n*We reserve the right to require a registration minimum; classes are subject to change. \n*Any cancellation by us will result in a credit towards a future class or a refund.
URL:https://kickscrosslake.com/event/fall-reflections/
LOCATION:Kicks the Art Place\, 36066 County Road 66\, Crosslake\, MN\, 56442\, United States
CATEGORIES:Adult painting
ATTACH;FMTTYPE=image/jpeg:https://kickscrosslake.com/wp-content/uploads/fall-reflections-scaled.jpg
END:VEVENT
BEGIN:VEVENT
DTSTART;TZID=America/Chicago:20250822T173000
DTEND;TZID=America/Chicago:20250822T203000
DTSTAMP:20260423T080406
CREATED:20250731T203239Z
LAST-MODIFIED:20250731T212748Z
UID:2008-1755883800-1755894600@kickscrosslake.com
SUMMARY:Marsh in the Moonlight
DESCRIPTION:Here in the land of 10\,000 lakes\, we appreciate the beauty of our ponds\, wetlands\, channels and bays. This painting brings up countless memories of Minnesota nights by the water. Hints of metallic paint on the grasses add an extra glow. Sara will help you every step of the way\, so you can have a great time with your friends\, a date night\, or just a night out for yourself. This painting is with acrylic paint on a 12×16 canvas. Ages 16+ please! \n$45 \nTicket Policy: \n*No refunds \n*Register in advance! Registration closes at 8PM the night before. Last minute registrants\, call to check on availability. \n*We reserve the right to require a registration minimum; classes are subject to change. \n*Any cancellation by us will result in a credit towards a future class or a refund.
URL:https://kickscrosslake.com/event/marsh-in-the-moonlight/
LOCATION:Kicks the Art Place\, 36066 County Road 66\, Crosslake\, MN\, 56442\, United States
CATEGORIES:Adult painting
ATTACH;FMTTYPE=image/jpeg:https://kickscrosslake.com/wp-content/uploads/Marsh-scaled.jpg
END:VEVENT
BEGIN:VEVENT
DTSTART;TZID=America/Chicago:20250828T180000
DTEND;TZID=America/Chicago:20250828T200000
DTSTAMP:20260423T080406
CREATED:20250813T204347Z
LAST-MODIFIED:20250818T212504Z
UID:2040-1756404000-1756411200@kickscrosslake.com
SUMMARY:Watercolor Leaves: Embossing Technique
DESCRIPTION:We will be using the technique of embossing our paper to create the veins in these leaves. Don’t like drawing? This class begins with transferring the leaf outlines with graphite paper\, so no drawing skill necessary! You’ll be able to choose up to 3 leaf shapes and position them on the watercolor paper (9×12) to your liking. This is a great class to relax and enjoy watching watercolor perform for you as only watercolor can. Effects and colors seem to just “happen”. Watch our instructor demonstrate and receive one on one guidance\, step by step. We limit the size of these classes to ensure everyone receives adequate attention as needed. Bring your favorite beverage or snack or enjoy a hot beverage on us. We invite you to sip and snack while you paint! Ages 16+ please! \n$45 \nTicket Policy: \n*No refunds \n*Register in advance! Registration closes at 8PM the night before. Last minute registrants\, call to check on availability. \n*We reserve the right to require a registration minimum; classes are subject to change. \n*Any cancellation by us will result in a credit towards a future class or a refund.
URL:https://kickscrosslake.com/event/watercolor-leaves-embossing-technique/
LOCATION:Kicks the Art Place\, 36066 County Road 66\, Crosslake\, MN\, 56442\, United States
CATEGORIES:Adult painting
ATTACH;FMTTYPE=image/png:https://kickscrosslake.com/wp-content/uploads/Watercolor-Leaves.png
END:VEVENT
BEGIN:VEVENT
DTSTART;TZID=America/Chicago:20250830T130000
DTEND;TZID=America/Chicago:20250830T170000
DTSTAMP:20260423T080406
CREATED:20250729T215937Z
LAST-MODIFIED:20250818T011952Z
UID:2004-1756558800-1756573200@kickscrosslake.com
SUMMARY:Fall Signboard Workshop: Red-Winged Black Bird
DESCRIPTION:The fall sign board is finished and ready for a workshop! You can come paint this on a new signboard\, or bring back your spring\, summer\, or winter signboards and paint the other side for a $10 discount. This signboard doesn’t require any prep-work; we begin on the raw\, unfinished wood. Our signboard workshops are 4 hours\, as we like to take our time\, and take a break in the middle as needed. Bring your favorite snacks & beverages\, or enjoy a coffee or tea we have available. This is a beautiful sign to put on your front step September-November! We believe the “Welcome” for our signboards are understood by the viewer as they approach your front door. With art like this\, how could they not feel welcomed?   There’s no need for drawing skills to paint this design\, we provide graphite transfer paper to transfer your image. These workshops are for adults 18+ please! Come and join us for our final design to complete our 4-season collection- the fall sign board Red-Winged Blackbird! Register in ADVANCE\, seating is limited for signboard workshops. \n$89 \nTicket Policy: \n*No refunds \n*Register in advance! Registration closes at 8PM the night before. Last minute registrants\, call to check on availability. \n*We reserve the right to require a registration minimum; classes are subject to change. \n*Any cancellation by us will result in a credit towards a future class or a refund.
URL:https://kickscrosslake.com/event/fall-signboard-workshop-red-winged-black-bird/
LOCATION:Kicks the Art Place\, 36066 County Road 66\, Crosslake\, MN\, 56442\, United States
CATEGORIES:Adult Workshop
ATTACH;FMTTYPE=image/jpeg:https://kickscrosslake.com/wp-content/uploads/Fall-Signboard-Workshop.jpeg
END:VEVENT
END:VCALENDAR