BEGIN:VCALENDAR
VERSION:2.0
PRODID:-//Kicks the Art Place | Art Classes, Repurposed Furniture, Gifts and More | Crosslake Minnesota - ECPv6.15.18//NONSGML v1.0//EN
CALSCALE:GREGORIAN
METHOD:PUBLISH
X-WR-CALNAME:Kicks the Art Place | Art Classes, Repurposed Furniture, Gifts and More | Crosslake Minnesota
X-ORIGINAL-URL:https://kickscrosslake.com
X-WR-CALDESC:Events for Kicks the Art Place | Art Classes, Repurposed Furniture, Gifts and More | Crosslake Minnesota
REFRESH-INTERVAL;VALUE=DURATION:PT1H
X-Robots-Tag:noindex
X-PUBLISHED-TTL:PT1H
BEGIN:VTIMEZONE
TZID:America/Chicago
BEGIN:DAYLIGHT
TZOFFSETFROM:-0600
TZOFFSETTO:-0500
TZNAME:CDT
DTSTART:20240310T080000
END:DAYLIGHT
BEGIN:STANDARD
TZOFFSETFROM:-0500
TZOFFSETTO:-0600
TZNAME:CST
DTSTART:20241103T070000
END:STANDARD
BEGIN:DAYLIGHT
TZOFFSETFROM:-0600
TZOFFSETTO:-0500
TZNAME:CDT
DTSTART:20250309T080000
END:DAYLIGHT
BEGIN:STANDARD
TZOFFSETFROM:-0500
TZOFFSETTO:-0600
TZNAME:CST
DTSTART:20251102T070000
END:STANDARD
BEGIN:DAYLIGHT
TZOFFSETFROM:-0600
TZOFFSETTO:-0500
TZNAME:CDT
DTSTART:20260308T080000
END:DAYLIGHT
BEGIN:STANDARD
TZOFFSETFROM:-0500
TZOFFSETTO:-0600
TZNAME:CST
DTSTART:20261101T070000
END:STANDARD
END:VTIMEZONE
BEGIN:VEVENT
DTSTART;TZID=America/Chicago:20250606T170000
DTEND;TZID=America/Chicago:20250606T210000
DTSTAMP:20260422T172652
CREATED:20250514T010326Z
LAST-MODIFIED:20250514T010748Z
UID:1879-1749229200-1749243600@kickscrosslake.com
SUMMARY:Butterfly Sign Board Workshop
DESCRIPTION:It’s another chance at the butterfly sign board!  Create your own front entry art to welcome visitors. Our seasonal sign boards are designed to be complete without words needed\, and they are double sided for those who want to return to paint another season on the other side. Say “Welcome” with this charming design of daisies\, tulips and a monarch butterfly. A pre-outline of the butterfly makes this workshop a success for everyone—No drawing skills needed!   Boards are prepped in advance with the background stain and outline. With a step-by-step process\, one-on-one assistance\, you can do it!\nThose bringing in their winter or summer boards\, please drop off your sign and pay 2 days in advance so we can prep your board\, and remember\, we take $10 off your price. First timers\, please register online before the deadline so we can be sure to have a board prepped for you!  This is a 4 hour workshop\, so bring a meal from home and/or some snacks. We will take a short break midway through. Coffee\, tea\, cocoa or water will be available. Space is LIMITED for this workshop\, so don’t wait to register!\n16”x48” single panel boards $89 \nTicket Policy: \n*No refunds \n*Register in advance! Registration closes at 8 PM June 4 \n*We reserve the right to require a registration minimum; classes are subject to change. \n*Any cancellation by us will result in a credit towards a future class or a refund.
URL:https://kickscrosslake.com/event/butterfly-sign-board-workshop/
LOCATION:Kicks the Art Place\, 36066 County Road 66\, Crosslake\, MN\, 56442\, United States
CATEGORIES:Adult Workshop
ATTACH;FMTTYPE=image/jpeg:https://kickscrosslake.com/wp-content/uploads/IMG_0930-scaled.jpeg
END:VEVENT
BEGIN:VEVENT
DTSTART;TZID=America/Chicago:20250515T180000
DTEND;TZID=America/Chicago:20250515T200000
DTSTAMP:20260422T172652
CREATED:20250507T001141Z
LAST-MODIFIED:20250507T001141Z
UID:1862-1747332000-1747339200@kickscrosslake.com
SUMMARY:Cricut Workshop
DESCRIPTION:This workshop is your opportunity to learn how to use a Cricut machine to make your own stencil design and transfer it to a 12×12 wooden board. The three photos are examples to get you thinking!  Once the stencil is transferred\, you will paint your board however you desire. All materials are provided for this 2 hour workshop\, including refreshments! This class is limited to 4\, so don’t wait to save your spot! \n$50 \nTicket Policy: \n*No refunds \n*Payment is required in advance at registration. Last minute registrants\, call to check on availability. \n*Any cancellation by us will result in a credit towards a future class or a refund.
URL:https://kickscrosslake.com/event/cricut-workshop-2/
LOCATION:Kicks the Art Place\, 36066 County Road 66\, Crosslake\, MN\, 56442\, United States
CATEGORIES:Adult Workshop
ATTACH;FMTTYPE=image/jpeg:https://kickscrosslake.com/wp-content/uploads/cricut-poster.jpg
END:VEVENT
BEGIN:VEVENT
DTSTART;TZID=America/Chicago:20250514T140000
DTEND;TZID=America/Chicago:20250514T160000
DTSTAMP:20260422T172652
CREATED:20250506T234940Z
LAST-MODIFIED:20250507T000633Z
UID:1859-1747231200-1747238400@kickscrosslake.com
SUMMARY:Cricut Workshop
DESCRIPTION:This workshop is your opportunity to learn how to use a Cricut machine to make your own stencil design and transfer it to a 12×12 wooden board. The three photos are examples to get you thinking!  Once the stencil is transferred\, you will paint your board however you desire. All materials are provided for this 2 hour workshop\, including refreshments! This class is limited to 4\, so don’t wait to save your spot! \n$50 \nTicket Policy: \n*No refunds \n*Payment is required in advance at registration. Last minute registrants\, call to check on availability. \n*Any cancellation by us will result in a credit towards a future class or a refund.
URL:https://kickscrosslake.com/event/cricut-workshop/
LOCATION:Kicks the Art Place\, 36066 County Road 66\, Crosslake\, MN\, 56442\, United States
CATEGORIES:Adult Workshop
ATTACH;FMTTYPE=image/jpeg:https://kickscrosslake.com/wp-content/uploads/cricut-poster.jpg
END:VEVENT
END:VCALENDAR