BEGIN:VCALENDAR
VERSION:2.0
PRODID:-//Kicks the Art Place | Art Classes, Repurposed Furniture, Gifts and More | Crosslake Minnesota - ECPv6.15.18//NONSGML v1.0//EN
CALSCALE:GREGORIAN
METHOD:PUBLISH
X-WR-CALNAME:Kicks the Art Place | Art Classes, Repurposed Furniture, Gifts and More | Crosslake Minnesota
X-ORIGINAL-URL:https://kickscrosslake.com
X-WR-CALDESC:Events for Kicks the Art Place | Art Classes, Repurposed Furniture, Gifts and More | Crosslake Minnesota
REFRESH-INTERVAL;VALUE=DURATION:PT1H
X-Robots-Tag:noindex
X-PUBLISHED-TTL:PT1H
BEGIN:VTIMEZONE
TZID:America/Chicago
BEGIN:DAYLIGHT
TZOFFSETFROM:-0600
TZOFFSETTO:-0500
TZNAME:CDT
DTSTART:20240310T080000
END:DAYLIGHT
BEGIN:STANDARD
TZOFFSETFROM:-0500
TZOFFSETTO:-0600
TZNAME:CST
DTSTART:20241103T070000
END:STANDARD
BEGIN:DAYLIGHT
TZOFFSETFROM:-0600
TZOFFSETTO:-0500
TZNAME:CDT
DTSTART:20250309T080000
END:DAYLIGHT
BEGIN:STANDARD
TZOFFSETFROM:-0500
TZOFFSETTO:-0600
TZNAME:CST
DTSTART:20251102T070000
END:STANDARD
BEGIN:DAYLIGHT
TZOFFSETFROM:-0600
TZOFFSETTO:-0500
TZNAME:CDT
DTSTART:20260308T080000
END:DAYLIGHT
BEGIN:STANDARD
TZOFFSETFROM:-0500
TZOFFSETTO:-0600
TZNAME:CST
DTSTART:20261101T070000
END:STANDARD
BEGIN:DAYLIGHT
TZOFFSETFROM:-0600
TZOFFSETTO:-0500
TZNAME:CDT
DTSTART:20270314T080000
END:DAYLIGHT
BEGIN:STANDARD
TZOFFSETFROM:-0500
TZOFFSETTO:-0600
TZNAME:CST
DTSTART:20271107T070000
END:STANDARD
END:VTIMEZONE
BEGIN:VEVENT
DTSTART;TZID=America/Chicago:20260311T180000
DTEND;TZID=America/Chicago:20260311T203000
DTSTAMP:20260424T203158
CREATED:20251229T222048Z
LAST-MODIFIED:20260220T134133Z
UID:2147-1773252000-1773261000@kickscrosslake.com
SUMMARY:"Cozy Highlander" Paint and Sip (Taste & Graze) @ UpNorth Social Tasting and Grazing Room
DESCRIPTION:*New date for our Highland Cow at UpNorth Social! Now\, unless we get one of those freak storms in March\, we hope that third time’s a charm! A fitting sentiment for the month of March\, we think! \nJoin us at UpNorth Social Tasting and Grazing Room in Crosslake for this special paint and sip of “Cozy Highlander.”  Enjoy the vibe and sip some wine while painting along\, step by step.  Instructor\, Sara Porter\, will have your canvas prepped with an outline of the muzzle and scarf\, so sign-up in advance to ensure we have a canvas prepped and ready for you.  All materials are provided\, including aprons\, just as if you were coming to paint in our studio at Kicks. “Cozy Highlander” is a beginner level painting\, meaning anyone can join us; no experience necessary. Come to have fun and you might be surprised at what you can do with the right tools and guidance.   Unfamiliar with UpNorth Social? Visit their website and see why we’ve chosen to collaborate with them for one of our paint and sip classes!  We hope you’ll take advantage of the opportunity to “sip\, taste or graze” while you paint to enjoy this opportunity outside of our studio! \n$55   acrylic paint  12×16 canvas \nEvent Location: UpNorth Social Tasting and Grazing Room  \nAddress: 35494 Co Rd 3\, Crosslake\, MN 56442     \nWeb:  upnorthsocial.co   \nQuestions about the venue\, please call UpNorth Social: Phone: 218-692-6500 \nQuestions about the class and tickets\, please call Kicks the Art Place:  Phone: 218-692-5425 \nTicket Policy: \n*No refunds \n*Sign up in advance! Ticket sales close at 8PM the night before the event. Last minute inquiries\, call 218-692-5425 to check on availability. \n*Class minimum: 5 \n*In the event of not reaching the minimum\, class is subject to cancellation. \n*Cancellations by us will result in a credit towards a future class or a refund.
URL:https://kickscrosslake.com/event/cozy-highland-paint-and-sip/
LOCATION:UpNorth Social\, 35494 Co Rd 3\, Crosslake\, MN\, 56442\, United States
CATEGORIES:Off-Location Paint Party
ATTACH;FMTTYPE=image/jpeg:https://kickscrosslake.com/wp-content/uploads/Cozy-Highland-scaled.jpeg
END:VEVENT
BEGIN:VEVENT
DTSTART;TZID=America/Chicago:20251122T130000
DTEND;TZID=America/Chicago:20251122T160000
DTSTAMP:20260424T203158
CREATED:20250913T184917Z
LAST-MODIFIED:20250913T184917Z
UID:2089-1763816400-1763827200@kickscrosslake.com
SUMMARY:Babe the Blue Ox's Christmas
DESCRIPTION:Babe the Blue Ox is getting into some Christmas mischief! We begin with a chalk outline on a black 16×20 canvas\, and with acrylic paint\, follow along with Sara\, step-by-step. TRUST THE PROCESS! Our favorite part with this painting are the lights- we get to paint with our fingers.  But not to worry\, aprons are provided and wet wipes are handy….. because you MAY want to be sipping and snacking while painting this big boy! Bring your favorites\, or enjoy a hot beverage on us. Coffee\, tea\, cocoa\, cider\, are typically available on our little coffee bar.  Kick in the holiday season with us at Kicks! We always have fun in our studio. All painting levels welcome! Ages 16+ required for this painting. \n$50 \nTicket Policy: \n*No refunds \n*Register in advance! Registration closes at 8PM the night before. Last minute registrants\, call to check on availability. \n*We reserve the right to require a registration minimum; classes are subject to change. \n*Any cancellation by us will result in a credit towards a future class or a refund.
URL:https://kickscrosslake.com/event/babe-the-blue-oxs-christmas/
LOCATION:Kicks the Art Place\, 36066 County Road 66\, Crosslake\, MN\, 56442\, United States
CATEGORIES:Adult painting
ATTACH;FMTTYPE=image/jpeg:https://kickscrosslake.com/wp-content/uploads/IMG_5871-scaled.jpeg
END:VEVENT
BEGIN:VEVENT
DTSTART;TZID=America/Chicago:20251025T130000
DTEND;TZID=America/Chicago:20251025T150000
DTSTAMP:20260424T203158
CREATED:20250826T010528Z
LAST-MODIFIED:20250913T173804Z
UID:2064-1761397200-1761404400@kickscrosslake.com
SUMMARY:Holly Jolly Highlander
DESCRIPTION:Try a minimalistic approach to painting a Highlander cow with whimsical brush strokes against a black canvas. We start with a chalk outline and paint the whole look with only one paint brush. This painting is also a great option for a private painting party for Christmas! Contact us to schedule!\nThis class is for ages 16+ please!\n$45 \nTicket Policy: \n*No refunds \n*Register in advance! Registration closes at 8PM the night before. Last minute registrants\, call to check on availability. \n*We reserve the right to require a registration minimum; classes are subject to change. \n*Any cancellation by us will result in a credit towards a future class or a refund.
URL:https://kickscrosslake.com/event/holly-jolly-highlander/
LOCATION:Kicks the Art Place\, 36066 County Road 66\, Crosslake\, MN\, 56442\, United States
CATEGORIES:Adult painting
ATTACH;FMTTYPE=image/jpeg:https://kickscrosslake.com/wp-content/uploads/IMG_4612-scaled.jpeg
END:VEVENT
END:VCALENDAR