BEGIN:VCALENDAR
VERSION:2.0
PRODID:-//Kicks the Art Place | Art Classes, Repurposed Furniture, Gifts and More | Crosslake Minnesota - ECPv6.15.18//NONSGML v1.0//EN
CALSCALE:GREGORIAN
METHOD:PUBLISH
X-WR-CALNAME:Kicks the Art Place | Art Classes, Repurposed Furniture, Gifts and More | Crosslake Minnesota
X-ORIGINAL-URL:https://kickscrosslake.com
X-WR-CALDESC:Events for Kicks the Art Place | Art Classes, Repurposed Furniture, Gifts and More | Crosslake Minnesota
REFRESH-INTERVAL;VALUE=DURATION:PT1H
X-Robots-Tag:noindex
X-PUBLISHED-TTL:PT1H
BEGIN:VTIMEZONE
TZID:America/Chicago
BEGIN:DAYLIGHT
TZOFFSETFROM:-0600
TZOFFSETTO:-0500
TZNAME:CDT
DTSTART:20250309T080000
END:DAYLIGHT
BEGIN:STANDARD
TZOFFSETFROM:-0500
TZOFFSETTO:-0600
TZNAME:CST
DTSTART:20251102T070000
END:STANDARD
BEGIN:DAYLIGHT
TZOFFSETFROM:-0600
TZOFFSETTO:-0500
TZNAME:CDT
DTSTART:20260308T080000
END:DAYLIGHT
BEGIN:STANDARD
TZOFFSETFROM:-0500
TZOFFSETTO:-0600
TZNAME:CST
DTSTART:20261101T070000
END:STANDARD
BEGIN:DAYLIGHT
TZOFFSETFROM:-0600
TZOFFSETTO:-0500
TZNAME:CDT
DTSTART:20270314T080000
END:DAYLIGHT
BEGIN:STANDARD
TZOFFSETFROM:-0500
TZOFFSETTO:-0600
TZNAME:CST
DTSTART:20271107T070000
END:STANDARD
END:VTIMEZONE
BEGIN:VEVENT
DTSTART;TZID=America/Chicago:20260530T130000
DTEND;TZID=America/Chicago:20260530T170000
DTSTAMP:20260421T202836
CREATED:20260421T141822Z
LAST-MODIFIED:20260421T141822Z
UID:2303-1780146000-1780160400@kickscrosslake.com
SUMMARY:Watercolor Workshop: A Beginner's Guide to Brushstrokes
DESCRIPTION:Ever look at a watercolor painting and think\, how did they do that? This workshop is a must for anyone who’s always wondered and wanted to try.  While each artist develops their own touch\, there are techniques every aspiring painter needs to know. \n\nIn this watercolor workshop\, Sara will be teaching various brushstroke techniques most often used in loose watercolor painting.  This workshop has a required materials list-be sure to check that out at the bottom of this page!  We will be practicing our brushstrokes with Sara’s Highlander Cow in watercolor- as seen in a previous class- as well as a simple landscape.  This class is appropriate for beginners and anyone who wants to refine their skills. Be sure to bring your favorite beverages and treats!  Coffee\, tea and other hot beverages will be available.  This class is limited to 6 painters.  This is to ensure you get the most out of this workshop. Ages 16+ please! \n$60-see Ticket Policy Below. (Note earlier sign-up deadline) \nMeet your instructor:  Sara Porter \nSara is a local artist who grew up in the Brainerd Lakes Area. She has a Studio Art Degree from Northwestern University\, Roseville\, MN with an emphasis in oil painting. Currently\, besides teaching at Kicks since 2018\, she teaches elementary and high school art classes to home school co-op groups. Her class sizes have varied from 4 to 28 students\, K-12.  While she enjoys teaching\, she seeks time-out to paint in the studio or outdoors. Sara struggles to isolate a single medium as a favorite. She finds enjoyment in the freedom to grab whatever medium suits her mood. This results in a variety of classes for Kicks!  In addition to teaching\,  Sara shows original works for sale at Kicks and offers pet portraits in paint or dry media\, such as colored pencil and soft pastels. You can find her on Facebook and Instagram under ArtistSaraPorter. \nMaterials List: \nHigh quality synthetic sable brushes are most recommended\, but substitutes will do. Select options designated for water color painting.  Here are some suggestions and what I will be using: \n\nPointed Rounds in #’s 4\, 8\, & 10. Try to bring at least 2 different sizes.\nFlat brush ranging from 1/2 in to 1 in width.\nScript Liner brush or a rigger brush for finer lines and details.\n\nWatercolor Paint Tubes:  I prefer to use Winsor & Newton’s professional grade line\, but I also use some student grade paints such as Grumbacher Academy or Windsor & Newton’s Cotman series. They work OK. Our main focus will be brush strokes\, but you will need a variety of colors. The colors you need depend on your subject. For my Highlander Cow\, I will be using the following: \nAt minimum: Burnt Sienna\, Raw Sienna (or Yellow Ochre)\,  Ultramarine Blue\, Quinacridone Magenta\,  Sap Green\, Cadmium Yellow light\, Payne’s Grey\, Lamp Black \nHelpful for less mixing: Raw Umber\, Violet \nOPTIONAL:  Other colors I use often:  Prussian Blue\, Permanent Rose\, Quinacridone Gold\, Cerulean Blue\, Cobalt blue\,  Lemon Yellow\, \nPaper:  For the purposes of this class\, good quality paper will cause less frustration. You want 140 pound\, cold press paper. Arches Cold Press is most recommended. I have used Strathmore’s 400 series and it works OK\, but at least avoid hot press paper for this class.  If you don’t want to buy an entire block of Arches paper\,  you can buy a large sheet of Arches paper (22″ x 30″) at Hobby Lobby for $8.99.  It can be torn into smaller sizes and you will see the difference in your results. \nTicket Policy: \n*No refunds \n*Sign up in advance! Ticket sales close at 8PM two nights before. Last minute inquiries\, call to check on availability. \n*Class minimum: 4 \n*In the event of not reaching the minimum\, class is subject to cancellation. \n*Cancellations by us will result in a credit towards a future class or a refund. \n 
URL:https://kickscrosslake.com/event/watercolor-workshop-a-beginners-guide-to-brushstrokes/
LOCATION:Kicks the Art Place\, 36066 County Road 66\, Crosslake\, MN\, 56442\, United States
CATEGORIES:Adult Workshop
ATTACH;FMTTYPE=image/jpeg:https://kickscrosslake.com/wp-content/uploads/Watercolor-Workshop-1.jpeg
END:VEVENT
END:VCALENDAR