BEGIN:VCALENDAR
VERSION:2.0
PRODID:-//Kicks the Art Place | Art Classes, Repurposed Furniture, Gifts and More | Crosslake Minnesota - ECPv6.15.18//NONSGML v1.0//EN
CALSCALE:GREGORIAN
METHOD:PUBLISH
X-ORIGINAL-URL:https://kickscrosslake.com
X-WR-CALDESC:Events for Kicks the Art Place | Art Classes, Repurposed Furniture, Gifts and More | Crosslake Minnesota
REFRESH-INTERVAL;VALUE=DURATION:PT1H
X-Robots-Tag:noindex
X-PUBLISHED-TTL:PT1H
BEGIN:VTIMEZONE
TZID:America/Chicago
BEGIN:DAYLIGHT
TZOFFSETFROM:-0600
TZOFFSETTO:-0500
TZNAME:CDT
DTSTART:20240310T080000
END:DAYLIGHT
BEGIN:STANDARD
TZOFFSETFROM:-0500
TZOFFSETTO:-0600
TZNAME:CST
DTSTART:20241103T070000
END:STANDARD
BEGIN:DAYLIGHT
TZOFFSETFROM:-0600
TZOFFSETTO:-0500
TZNAME:CDT
DTSTART:20250309T080000
END:DAYLIGHT
BEGIN:STANDARD
TZOFFSETFROM:-0500
TZOFFSETTO:-0600
TZNAME:CST
DTSTART:20251102T070000
END:STANDARD
BEGIN:DAYLIGHT
TZOFFSETFROM:-0600
TZOFFSETTO:-0500
TZNAME:CDT
DTSTART:20260308T080000
END:DAYLIGHT
BEGIN:STANDARD
TZOFFSETFROM:-0500
TZOFFSETTO:-0600
TZNAME:CST
DTSTART:20261101T070000
END:STANDARD
END:VTIMEZONE
BEGIN:VEVENT
DTSTART;TZID=America/Chicago:20251216T150000
DTEND;TZID=America/Chicago:20251216T180000
DTSTAMP:20260423T095843
CREATED:20251213T210057Z
LAST-MODIFIED:20251213T210057Z
UID:2127-1765897200-1765908000@kickscrosslake.com
SUMMARY:Wood Nativity Display Workshop
DESCRIPTION:Design\, paint\, and assemble your own wooden nativity scene! A fun project to enjoy in our newly arranged paint studio.  $55  Register in advance! Space is limited. \nTicket Policy: \n*No refunds \n*Register in advance! Registration closes at 8PM the night before. Last minute registrants\, call to check on availability. \n*We reserve the right to require a registration minimum; classes are subject to change. \n*Any cancellation by us will result in a credit towards a future class or a refund. \n 
URL:https://kickscrosslake.com/event/wood-nativity-display-workshop/
LOCATION:Kicks the Art Place\, 36066 County Road 66\, Crosslake\, MN\, 56442\, United States
CATEGORIES:Adult Workshop
ATTACH;FMTTYPE=image/jpeg:https://kickscrosslake.com/wp-content/uploads/wooden-nativity-1.jpg
END:VEVENT
BEGIN:VEVENT
DTSTART;TZID=America/Chicago:20251218T170000
DTEND;TZID=America/Chicago:20251218T190000
DTSTAMP:20260423T095843
CREATED:20251213T213243Z
LAST-MODIFIED:20251213T213243Z
UID:2131-1766077200-1766084400@kickscrosslake.com
SUMMARY:Ornaments with Transfers Workshop
DESCRIPTION:Beautiful\, custom-made ornaments you made yourself! You will learn how to use our transfers while designing and creating 3 bulbs of your own. Choose from our various designs. Transfers are a beautiful solution to decorating most any surface! Great for gifts or a nice small group activity! Small eats and beverages\, bring your own wine.  $50  Register in advance! Seating is limited! \nTicket Policy: \n*No refunds \n*Register in advance! Registration closes at 8PM the night before. Last minute registrants\, call to check on availability. \n*We reserve the right to require a registration minimum; classes are subject to change. \n*Any cancellation by us will result in a credit towards a future class or a refund.
URL:https://kickscrosslake.com/event/ornaments-with-transfers-workshop/
LOCATION:Kicks the Art Place\, 36066 County Road 66\, Crosslake\, MN\, 56442\, United States
CATEGORIES:Adult Workshop
ATTACH;FMTTYPE=image/jpeg:https://kickscrosslake.com/wp-content/uploads/ornaments.jpeg
END:VEVENT
END:VCALENDAR