BEGIN:VCALENDAR
VERSION:2.0
PRODID:-//Kicks the Art Place | Art Classes, Repurposed Furniture, Gifts and More | Crosslake Minnesota - ECPv6.15.18//NONSGML v1.0//EN
CALSCALE:GREGORIAN
METHOD:PUBLISH
X-WR-CALNAME:Kicks the Art Place | Art Classes, Repurposed Furniture, Gifts and More | Crosslake Minnesota
X-ORIGINAL-URL:https://kickscrosslake.com
X-WR-CALDESC:Events for Kicks the Art Place | Art Classes, Repurposed Furniture, Gifts and More | Crosslake Minnesota
REFRESH-INTERVAL;VALUE=DURATION:PT1H
X-Robots-Tag:noindex
X-PUBLISHED-TTL:PT1H
BEGIN:VTIMEZONE
TZID:America/Chicago
BEGIN:DAYLIGHT
TZOFFSETFROM:-0600
TZOFFSETTO:-0500
TZNAME:CDT
DTSTART:20240310T080000
END:DAYLIGHT
BEGIN:STANDARD
TZOFFSETFROM:-0500
TZOFFSETTO:-0600
TZNAME:CST
DTSTART:20241103T070000
END:STANDARD
BEGIN:DAYLIGHT
TZOFFSETFROM:-0600
TZOFFSETTO:-0500
TZNAME:CDT
DTSTART:20250309T080000
END:DAYLIGHT
BEGIN:STANDARD
TZOFFSETFROM:-0500
TZOFFSETTO:-0600
TZNAME:CST
DTSTART:20251102T070000
END:STANDARD
BEGIN:DAYLIGHT
TZOFFSETFROM:-0600
TZOFFSETTO:-0500
TZNAME:CDT
DTSTART:20260308T080000
END:DAYLIGHT
BEGIN:STANDARD
TZOFFSETFROM:-0500
TZOFFSETTO:-0600
TZNAME:CST
DTSTART:20261101T070000
END:STANDARD
END:VTIMEZONE
BEGIN:VEVENT
DTSTART;TZID=America/Chicago:20251011T130000
DTEND;TZID=America/Chicago:20251011T170000
DTSTAMP:20260421T161244
CREATED:20250812T031334Z
LAST-MODIFIED:20250812T031334Z
UID:2035-1760187600-1760202000@kickscrosslake.com
SUMMARY:Winter Signboard Workshop
DESCRIPTION:With our Winter Signboard\, the front porch will be the first place you decorate this year! You can come paint this on a new signboard\, or bring back your spring\, summer\, or fall signboards to paint the other side for a $10 discount. This signboard is prepped in advance with a dark stain\, so returning painters\, bring in your boards early so we can prep them!  Our signboard workshops are 4 hours\, as we like to take our time\, and take a break in the middle as needed. Bring your favorite snacks & beverages\, or enjoy a coffee or tea we have available. This is a beautiful sign to put on your front step this Christmas and keep up all winter! We believe the “Welcome” for our signboards are understood by the viewer as they approach your front door. With art like this\, how could they not feel welcomed? There’s no need for drawing skills to paint this design\, we provide a template. These workshops are for adults 18+ please! Register in ADVANCE\, seating is limited for signboard workshops. \n$89\nTicket Policy:\n*No refunds\n*Register in advance! Registration closes at 8PM the night before. Last minute registrants\, call to check on availability.\n*We reserve the right to require a registration minimum; classes are subject to change.\n*Any cancellation by us will result in a credit towards a future class or a refund.
URL:https://kickscrosslake.com/event/winter-signboard-workshop/
LOCATION:Kicks the Art Place\, 36066 County Road 66\, Crosslake\, MN\, 56442\, United States
CATEGORIES:Adult Workshop
ATTACH;FMTTYPE=image/jpeg:https://kickscrosslake.com/wp-content/uploads/Snowman-Sign-Board.jpg
END:VEVENT
END:VCALENDAR